BEGIN:VCALENDAR
VERSION:2.0
PRODID:-//Patriot Guard Riders - ECPv5.3.2.1//NONSGML v1.0//EN
CALSCALE:GREGORIAN
METHOD:PUBLISH
X-WR-CALNAME:Patriot Guard Riders
X-ORIGINAL-URL:https://www.patriotguard.org
X-WR-CALDESC:Events for Patriot Guard Riders
BEGIN:VTIMEZONE
TZID:America/New_York
BEGIN:DAYLIGHT
TZOFFSETFROM:-0500
TZOFFSETTO:-0400
TZNAME:EDT
DTSTART:20170312T070000
END:DAYLIGHT
BEGIN:STANDARD
TZOFFSETFROM:-0400
TZOFFSETTO:-0500
TZNAME:EST
DTSTART:20171105T060000
END:STANDARD
END:VTIMEZONE
BEGIN:VEVENT
DTSTART;TZID=America/New_York:20170706T140000
DTEND;TZID=America/New_York:20170706T160000
DTSTAMP:20210402T030146
CREATED:20170706T180000Z
LAST-MODIFIED:20191201T031829Z
UID:323545-1499349600-1499356800@www.patriotguard.org
SUMMARY:Claude Howard Stephens\, Veteran\, USA - WWII
DESCRIPTION:Claude Howard “Roho” Stephens\, Veteran \nUSA – WWII \nOwensboro\, Kentucky – 06 Jul 2017\n\n[HR][/HR]\nABOUT THE MISSION: \nThe family of Mr. Claude Stephens\, US Army WWII Veteran\, has invited us to stand in his honor. Mr. Stephens was awarded several citations and served our country with distinction and honor. Please join us in standing to honor him. We will stand a flag line and escort Mr. Stephens from Glenn Funeral Home to Pleasant Grove Cemetery. \nPRIMARY STAGING DETAILS: 06 Jul 2017 \n \nPrimary Staging Time: 8:00 A.M. CST\n\nGlenn Funeral Home\n900 Old Hartford Road\n\nOwensboro\, Kentucky – 42301\n\n\n\n \nRide Captain:\n\nJeff & Sandy Free\n270-903-1722\n270-314-1170\njeff.free@bigrivers.com\nsfree@audubon-area.com\n\n \nSpecial Instructions:\n\n\n\n \n \nFlags & Water:\n\nFlags Will Be Provided\n\nIf you have large bike flags\, please bring them.\n\nWater will be provided.\n\n\nSubmitted By: Jeff Free\nPosition: Ride Captain \n[HR][/HR]\nNote:\nYou do not have to own/ride a motorcycle or be a Veteran to join and membership is Free. The only requirement is RESPECT! To join\, simply go to www.PatriotGuard.org and click on Register. Membership is Free. \nTo subscribe to receive mission notices\, log into the National Site and click on the Mission Tab at the top. Select Upcoming Missions by State. Scroll to the state(s) you would like to receive notices for and click on the green check mark. Detailed instructions are also located in the FAQs on the site by clicking on the Quick Links Tab and selecting FAQs.
URL:https://www.patriotguard.org/mission/claude-howard-stephens-veteran-usa-wwii/
LOCATION:John Wylie Meadows
END:VEVENT
END:VCALENDAR