BEGIN:VCALENDAR
VERSION:2.0
PRODID:-//Patriot Guard Riders - ECPv5.3.2.1//NONSGML v1.0//EN
CALSCALE:GREGORIAN
METHOD:PUBLISH
X-WR-CALNAME:Patriot Guard Riders
X-ORIGINAL-URL:https://www.patriotguard.org
X-WR-CALDESC:Events for Patriot Guard Riders
BEGIN:VTIMEZONE
TZID:America/New_York
BEGIN:DAYLIGHT
TZOFFSETFROM:-0500
TZOFFSETTO:-0400
TZNAME:EDT
DTSTART:20190310T070000
END:DAYLIGHT
BEGIN:STANDARD
TZOFFSETFROM:-0400
TZOFFSETTO:-0500
TZNAME:EST
DTSTART:20191103T060000
END:STANDARD
END:VTIMEZONE
BEGIN:VEVENT
DTSTART;VALUE=DATE:20190713
DTEND;VALUE=DATE:20190714
DTSTAMP:20210403T193122
CREATED:20190712T143227Z
LAST-MODIFIED:20190712T143227Z
UID:167414-1562976000-1563062399@www.patriotguard.org
SUMMARY:Claude E. Lollie
DESCRIPTION:Honor Mission\nClaude E. Lollie\, Veteran\nUSA – Korea\nWichita Falls\, Texas – 07-13-19\n\n\n\nABOUT THE MISSION: \nU.S. Army 1953-1955. He was a Korean War Veteran and served as a Battery Commander and Training Officer.\n\n\nPRIMARY STAGING DETAILS: 07-13-19 \nStaging Time: 10:00 AM\n \nCrestview Memorial Park Cemetery\n1917 State Highway 79 N\nWichita Falls\, Texas 76305\n\n\nRide Captain: \nBarbara Johnson\nbrbjo@aol.com\n(940) 642-5324\n\nAsst: Gene DeBord\, gene.debord@yahoo.com\, (940) 733-4376\n\n\nSpecial Instructions: \nStaging Time: 10:00\nBriefing Time: 10:20\nIn Position/KSU Time: 10:30\nStarting Time: 11:00\nThere will be no procession for this mission. We will arrive at the cemetery and go to the back to the Mausoleum. We will place flags in front of the mausoleum\, have our briefing\, then stand by one of the static flags and wait for the arrival of the family. When the service starts\, we will remove the flags\, return them to the support vehicle\, furl and stow them away and be dismissed. At this time the PGR will be folding and presenting the flag.\n\n\nFlags & Water:\nFlags will be provided\nLarge Bike Flags will NOT be needed.\nWater will be provided.\n\n\n\nSubmitted By: Dan Mathys \nPosition: Texas Ride Captain \n\nNote: You do not have to own/ride a motorcycle or be a veteran to join\, and membership is Free. The only requirement is RESPECT! To subscribe to receive mission notices\, log into the National Site and click on the Members tab at the top. Select the Subscribe to PGR Missions option.\n Print This Page
URL:https://www.patriotguard.org/mission/claude-e-lollie/
CATEGORIES:Honor Mission
END:VEVENT
END:VCALENDAR