BEGIN:VCALENDAR
VERSION:2.0
PRODID:-//Patriot Guard Riders - ECPv5.6.0//NONSGML v1.0//EN
CALSCALE:GREGORIAN
METHOD:PUBLISH
X-WR-CALNAME:Patriot Guard Riders
X-ORIGINAL-URL:https://www.patriotguard.org
X-WR-CALDESC:Events for Patriot Guard Riders
BEGIN:VTIMEZONE
TZID:America/New_York
BEGIN:DAYLIGHT
TZOFFSETFROM:-0500
TZOFFSETTO:-0400
TZNAME:EDT
DTSTART:20160313T070000
END:DAYLIGHT
BEGIN:STANDARD
TZOFFSETFROM:-0400
TZOFFSETTO:-0500
TZNAME:EST
DTSTART:20161106T060000
END:STANDARD
END:VTIMEZONE
BEGIN:VEVENT
DTSTART;TZID=America/New_York:20160722T090000
DTEND;TZID=America/New_York:20160722T110000
DTSTAMP:20210512T122824
CREATED:20160722T130000Z
LAST-MODIFIED:20191201T144203Z
UID:410464-1469178000-1469185200@www.patriotguard.org
SUMMARY:Claud Sarver
DESCRIPTION:PFC Claud Sarver\nUSMC Veteran\nElk City\, OK\n22 Jul 16 \n\n\n\nThe family of USMC Veteran PFC Claud Sarver has asked the PGR to stand a flag line line at his services to be held on 22 Jul 16 at Elk City\, OK 73644. \nServices will be held at\nWhinery Savage Funeral Home\n403 W. Country Club Blvd.\nElk City\, OK 73644 at 1030. \nInterment will follow at Port Cemetery\, a short distance South of Elk City\, on Hwy 34. \nDate:  Friday 22 July 2016 \nStaging:  0915\nWhinery Savage Funeral Home\n403 W. Country Club Blvd.\nElk City\, Ok 73644 \nMandatory Briefing:  0940\nRiders must attend Briefing if riding in escort to cemetery. \nRCIC\nLarry Williams\nlarryw4782@gmail.com\n580.774.9177 \nAssisting\nJay (Jaybo) Clark\n405-464-4994\njaybo_pgr@yahoo.com
URL:https://www.patriotguard.org/mission/claud-sarver/
CATEGORIES:Archive
END:VEVENT
END:VCALENDAR