BEGIN:VCALENDAR
VERSION:2.0
PRODID:-//Patriot Guard Riders - ECPv5.3.2.1//NONSGML v1.0//EN
CALSCALE:GREGORIAN
METHOD:PUBLISH
X-WR-CALNAME:Patriot Guard Riders
X-ORIGINAL-URL:https://www.patriotguard.org
X-WR-CALDESC:Events for Patriot Guard Riders
BEGIN:VTIMEZONE
TZID:America/New_York
BEGIN:DAYLIGHT
TZOFFSETFROM:-0500
TZOFFSETTO:-0400
TZNAME:EDT
DTSTART:20210314T070000
END:DAYLIGHT
BEGIN:STANDARD
TZOFFSETFROM:-0400
TZOFFSETTO:-0500
TZNAME:EST
DTSTART:20211107T060000
END:STANDARD
END:VTIMEZONE
BEGIN:VEVENT
DTSTART;VALUE=DATE:20210403
DTEND;VALUE=DATE:20210404
DTSTAMP:20210402T233843
CREATED:20210331T001623Z
LAST-MODIFIED:20210401T175356Z
UID:573421-1617408000-1617494399@www.patriotguard.org
SUMMARY:Clarence Wesley Jones Sr.
DESCRIPTION:Honor Mission\n\nClarence Wesley Jones Sr.\, Veteran\nUSA – Korea\nKilmarnock\, Virginia – 04-03-21\n\n\n\n\nABOUT THE MISSION: \nThe Patriot Guard Riders will provide a flag line of honor and respect for PFC Clarence Wesley Jones Sr. then we will escort him to his final place of rest.\n Patriots\, America lost a true patriot and Hero when PFC Clarence Wesley Jones was called to his final duty station earlier this month.\n\nPFC Jones served honorably in the US Army as a Field Artillery Cannoneer during his three years serving his Nation.  He spent a year serving in Combat in North Korea\, where he received the Korean Service Medal with 6 (six) Bronze Campaign Stars and the United Nations Service Medal.\n\nThe combat he fought in was some of the worse\, our Military had ever seen with its harsh terrain and freezing temperatures. PFC Jones was proud of his Service to our Great Nation. It is with Great Pride that the Patriot Guard Riders will stand for him\, as he has stood for us.\n\n\nPRIMARY STAGING DETAILS: 04-03-21 \nStaging Time: 12:30 pm  \nCurrie Funeral Home\n116 East Church Street\nKilmarnock\, Virginia 22482\n\n\nRide Captain: \nGary Ray “Deacon” Brinson\nGary.brinson@virginiapatriotguard.org\n540-226-9363\n\nMike “Handlebar” Nugent\nxdvr1@verizon.net\n757-327-8281\n\n\nSpecial Instructions: \nSafety Brief: 12:40 pm\nFlag Line: 1 pm – 2 pm\nService: 2 pm -3 pm\n\nImmediately after the service we will escort our Hero\, family\, and friends to Woodlawn Cemetery.\n\nSafety Brief: 2:20 pm\n\nKSU: TBD or at the discretion of the Funeral Director.\nWoodlawn Cemetery\nNorth Main Street\nKilmarnock\, VA\nFlag line at Woodlawn Cemetery.\n\nPer CDC & Virginia protocols all participants will comply with all COVID-19 mandates.\nExpect this mission to last 3 hours start to finish.\n\n\nFlags & Water:\nFlags will be provided\nIf you have large bike flags\, please bring them.\nWater WILL NOT be provided\, please bring your own.\n\n\n\nSubmitted By: Gary Brinson \nPosition: Virginia Assistant State Captain \n\nNote: You do not have to own/ride a motorcycle or be a veteran to join\, and membership is Free. The only requirement is RESPECT! To subscribe to receive mission notices\, log into the National Site and click on the Members tab at the top. Select the Subscribe to PGR Missions option.\n Print This Page
URL:https://www.patriotguard.org/mission/clarence-wesley-jones-sr/
CATEGORIES:Honor Mission
END:VEVENT
END:VCALENDAR