BEGIN:VCALENDAR
VERSION:2.0
PRODID:-//Patriot Guard Riders - ECPv5.6.0//NONSGML v1.0//EN
CALSCALE:GREGORIAN
METHOD:PUBLISH
X-WR-CALNAME:Patriot Guard Riders
X-ORIGINAL-URL:https://www.patriotguard.org
X-WR-CALDESC:Events for Patriot Guard Riders
BEGIN:VTIMEZONE
TZID:America/New_York
BEGIN:DAYLIGHT
TZOFFSETFROM:-0500
TZOFFSETTO:-0400
TZNAME:EDT
DTSTART:20160313T070000
END:DAYLIGHT
BEGIN:STANDARD
TZOFFSETFROM:-0400
TZOFFSETTO:-0500
TZNAME:EST
DTSTART:20161106T060000
END:STANDARD
END:VTIMEZONE
BEGIN:VEVENT
DTSTART;TZID=America/New_York:20160812T090000
DTEND;TZID=America/New_York:20160812T110000
DTSTAMP:20210512T011733
CREATED:20160812T130000Z
LAST-MODIFIED:20191201T143638Z
UID:409961-1470992400-1470999600@www.patriotguard.org
SUMMARY:Clarence Hudspeth
DESCRIPTION:Patriot’s Name:	PFC Clarence Hudspeth\nMilitary Branch:	United States Army\nClassification:	Veteran\nAdditional Military Info:	Germany \nMission Ride Captain:	John “Ghostrider” Blase\, blase02@sbcglobal.net\, (972) 467-7527 \nMission Summary:	The family has asked the PGR to honor their loved one with a flag line at the funeral service. \nPART 1:	Funeral service.\nMission Date:	Aug 12\, 2016 – Friday\nStaging Time:	10:00\nBriefing Time:	10:15\nIn Position Time Or KSU:	10:30\nService Start Time:	11:00 \nDetails Of Part 1:	Riders will stage at Serenity Funeral Home\, 4725 Vermont Ave. Ft. Worth\, Texas\, at 1000 hrs. on August 12\, 2016. After the briefing at 1015\, we will stand silent in the flag line as family and friends arrive. Once the service begins\, we will pull the flag line\, return them to the truck\, be debriefed and dismissed. The interment will be at DFW National Cemetery on Monday\, August 15. \nName Of Staging Point:\nSerenity Funerals and Cremations\n5725 Vermont Ave\nFt. Worth\, Texas
URL:https://www.patriotguard.org/mission/clarence-hudspeth-2/
CATEGORIES:Archive
END:VEVENT
END:VCALENDAR