BEGIN:VCALENDAR
VERSION:2.0
PRODID:-//Patriot Guard Riders - ECPv5.3.2.1//NONSGML v1.0//EN
CALSCALE:GREGORIAN
METHOD:PUBLISH
X-WR-CALNAME:Patriot Guard Riders
X-ORIGINAL-URL:https://www.patriotguard.org
X-WR-CALDESC:Events for Patriot Guard Riders
BEGIN:VTIMEZONE
TZID:America/New_York
BEGIN:DAYLIGHT
TZOFFSETFROM:-0500
TZOFFSETTO:-0400
TZNAME:EDT
DTSTART:20190310T070000
END:DAYLIGHT
BEGIN:STANDARD
TZOFFSETFROM:-0400
TZOFFSETTO:-0500
TZNAME:EST
DTSTART:20191103T060000
END:STANDARD
END:VTIMEZONE
BEGIN:VEVENT
DTSTART;VALUE=DATE:20190628
DTEND;VALUE=DATE:20190629
DTSTAMP:20210401T172022
CREATED:20190612T211609Z
LAST-MODIFIED:20190612T211609Z
UID:163600-1561680000-1561766399@www.patriotguard.org
SUMMARY:Clarence A. Filbert II
DESCRIPTION:Honor Mission\nClarence A. Filbert II\, Veteran\nUSN – Vietnam\nLeavenworth\, Kansas – 06-28-19\n\n\n\nABOUT THE MISSION: \nClarence A. Filbert II served in the United States Navy for three years\, eleven months and twenty-seven days. During his time in service\, he was awarded the National Defense Service Medal; the Vietnam Service Medal with 1 Bronze Star and the Republic of Vietnam Campaign Medal with Device.\n\n\nPRIMARY STAGING DETAILS: 06-28-19 \nStaging Time: 9:30 am  \nLeavenworth National Cemetery\n150 Muncie Road\nLeavenworth\, Kansas 66048\n\n\nRide Captain: \nRon “Grumpy” Wurtele\nrwurtele@kc.rr.com\n(913) 683-4652\n\n\nSpecial Instructions: \nRiders meet at the Leavenworth National Cemetery Office at 9:30 A.M.and escort to the shelter for 10:00 A.M. service at the shelter.\n\n\nFlags & Water:\nFlags will be provided\nIf you have large bike flags\, please bring them.\nWater WILL NOT be provided\, please bring your own.\n\nSubmitted By: Ronald Wurtele \nPosition: Kansas Ride Captain \n\nNote: You do not have to own/ride a motorcycle or be a veteran to join\, and membership is Free. The only requirement is RESPECT! To subscribe to receive mission notices\, log into the National Site and click on the Members tab at the top. Select the Subscribe to PGR Missions option.\n Print This Page
URL:https://www.patriotguard.org/mission/clarence-a-filbert-ii/
CATEGORIES:Honor Mission
END:VEVENT
END:VCALENDAR