BEGIN:VCALENDAR
VERSION:2.0
PRODID:-//Patriot Guard Riders - ECPv5.3.2.1//NONSGML v1.0//EN
CALSCALE:GREGORIAN
METHOD:PUBLISH
X-WR-CALNAME:Patriot Guard Riders
X-ORIGINAL-URL:https://www.patriotguard.org
X-WR-CALDESC:Events for Patriot Guard Riders
BEGIN:VTIMEZONE
TZID:America/New_York
BEGIN:DAYLIGHT
TZOFFSETFROM:-0500
TZOFFSETTO:-0400
TZNAME:EDT
DTSTART:20170312T070000
END:DAYLIGHT
BEGIN:STANDARD
TZOFFSETFROM:-0400
TZOFFSETTO:-0500
TZNAME:EST
DTSTART:20171105T060000
END:STANDARD
END:VTIMEZONE
BEGIN:VEVENT
DTSTART;TZID=America/New_York:20170529T093000
DTEND;TZID=America/New_York:20170529T113000
DTSTAMP:20210401T231928
CREATED:20170529T133000Z
LAST-MODIFIED:20191201T035310Z
UID:347397-1496050200-1496057400@www.patriotguard.org
SUMMARY:City of Sachse Memorial Day Event
DESCRIPTION:City of Sachse Memorial Day Event \nSachse\, Texas – 29 May 2017\n\n[HR][/HR]\nABOUT THE MISSION: \nFlag Line \nPRIMARY STAGING DETAILS: 29 May 2017 \n \nPrimary Staging Time: 1030 A.M.\n\nSachse City Hall\n3815 Sachse Road\n\nSachse\, Texas – 75048\n\n\n\n \n\nRide Captain:\n\nBill Kushnir\nbpkush@gte.net\n(214) 995-1536 \nRusty McNab\nrustymcnab@sbcglobal.net\n(817) 228-7845\n\n \nSpecial Instructions:\n\nThis is in conjunction with the Vietnam Combat Veterans Moving Wall which is on display over the Memorial Day Weekend. Riders will stage at the event site and post flags which will remain in place until the event has concluded.\n\n \nFlags & Water:\n\nFlags Will Be Provided\n\nLarge Bike Flags will NOT be needed.\n\nWater will be provided.\n\n\nSubmitted By: Dan Mathys\nPosition: Ride Captain \n[HR][/HR]\nNote:\nYou do not have to own/ride a motorcycle or be a Veteran to join and membership is Free. The only requirement is RESPECT! To join\, simply go to www.PatriotGuard.org and click on Register. Membership is Free. \nTo subscribe to receive mission notices\, log into the National Site and click on the Mission Tab at the top. Select Upcoming Missions by State. Scroll to the state(s) you would like to receive notices for and click on the green check mark. Detailed instructions are also located in the FAQs on the site by clicking on the Quick Links Tab and selecting FAQs.
URL:https://www.patriotguard.org/mission/city-of-sachse-memorial-day-event/
END:VEVENT
END:VCALENDAR