BEGIN:VCALENDAR
VERSION:2.0
PRODID:-//Patriot Guard Riders - ECPv5.3.2.1//NONSGML v1.0//EN
CALSCALE:GREGORIAN
METHOD:PUBLISH
X-WR-CALNAME:Patriot Guard Riders
X-ORIGINAL-URL:https://www.patriotguard.org
X-WR-CALDESC:Events for Patriot Guard Riders
BEGIN:VTIMEZONE
TZID:America/New_York
BEGIN:DAYLIGHT
TZOFFSETFROM:-0500
TZOFFSETTO:-0400
TZNAME:EDT
DTSTART:20190310T070000
END:DAYLIGHT
BEGIN:STANDARD
TZOFFSETFROM:-0400
TZOFFSETTO:-0500
TZNAME:EST
DTSTART:20191103T060000
END:STANDARD
END:VTIMEZONE
BEGIN:VEVENT
DTSTART;VALUE=DATE:20190823
DTEND;VALUE=DATE:20190824
DTSTAMP:20210402T103618
CREATED:20190820T194839Z
LAST-MODIFIED:20190820T194839Z
UID:171433-1566518400-1566604799@www.patriotguard.org
SUMMARY:City of Gilbert Agent Orange Awareness Event
DESCRIPTION:HOTH Mission\nCity of Gilbert Agent Orange Awareness Event\nGilbert\, Arizona – 08-23-19\n\n\n\nABOUT THE MISSION: \nFriday August 23rd the Town of Gilbert will light the water tower ORANGE.\nIt is Agent Orange Awareness Month. There will be an event at American Legion Post 39 (Gilbert) starting at 4:00 PM. The Riders will open the kitchen (for those who want to buy dinner) from 4:30-9:00 PM.\nThere will be music. Multiple organizations will be in attendance or have info tables set up to educate about Agent Orange\, offer resources & show what they do for our Vets. These include Welcome Home Gilbert/Wall Project\, Legion of the Silver Rose\, VFW\, VVA\, Reps from Legion Family District 12 & others.\nThe Patriot Guard Riders will stand a flag line at 6:30 PM at Water Tower Park & be there for the official lighting. At that time the mission will be complete then can return to Post for however long people want to stay. Karaoke starts about 7-7:30 pm.\nALL LEGION FAMILY MEMBERS\, VETERAN RIDER GROUPS\, PGR\, VFW & THOSE EFFECTED BY AGENT ORANGE ARE INVITED TO ATTEND.\n\n\nPRIMARY STAGING DETAILS: 08-23-19 \nStaging Time: 5:40 pm  \nAmerican Legion Post\n39206 N. Gilbert Road\nGilbert\, Arizona 85234\n\n\nRide Captain: \nTim Gentry\, 402-210-7857\ntgentry100@gmail.com\n\n\nSpecial Instructions: \nMeet Ride Captain at American Legion Post 39\nPlease note: Food available at 4:30 if any riders would like to come early. Contact RC for further info.\nWe will proceed to Water Tower Plaza 45 W Page Ave. at appropriate time to establish flag line.\nFlag Line Set: 6:15 PM\n\n\nFlags & Water:\nFlags will be provided\nIf you have large bike flags\, please bring them.\nWater will be provided.\n\nSubmitted By: Bill Wooster \nPosition: Arizona Assistant State Captain \n\nNote: You do not have to own/ride a motorcycle or be a veteran to join\, and membership is Free. The only requirement is RESPECT! To subscribe to receive mission notices\, log into the National Site and click on the Members tab at the top. Select the Subscribe to PGR Missions option.\n Print This Page
URL:https://www.patriotguard.org/mission/city-of-gilbert-agent-orange-awareness-event/
CATEGORIES:HOTH Mission
END:VEVENT
END:VCALENDAR