BEGIN:VCALENDAR
VERSION:2.0
PRODID:-//Patriot Guard Riders - ECPv5.3.2.1//NONSGML v1.0//EN
CALSCALE:GREGORIAN
METHOD:PUBLISH
X-WR-CALNAME:Patriot Guard Riders
X-ORIGINAL-URL:https://www.patriotguard.org
X-WR-CALDESC:Events for Patriot Guard Riders
BEGIN:VTIMEZONE
TZID:America/New_York
BEGIN:DAYLIGHT
TZOFFSETFROM:-0500
TZOFFSETTO:-0400
TZNAME:EDT
DTSTART:20190310T070000
END:DAYLIGHT
BEGIN:STANDARD
TZOFFSETFROM:-0400
TZOFFSETTO:-0500
TZNAME:EST
DTSTART:20191103T060000
END:STANDARD
END:VTIMEZONE
BEGIN:VEVENT
DTSTART;VALUE=DATE:20190824
DTEND;VALUE=DATE:20190825
DTSTAMP:20210402T094025
CREATED:20190819T160341Z
LAST-MODIFIED:20190819T160341Z
UID:171209-1566604800-1566691199@www.patriotguard.org
SUMMARY:City of Cuba US Marine aircraft dedication
DESCRIPTION:HOTH Mission\nCity of Cuba\, US Marine Aircraft Dedication\nCuba\, Missouri – 08-24-19\n\n\n\n\nABOUT THE MISSION: \nThe Patriot Guard Riders are invited to lead the escort of a retired Marine aircraft down the runway at the City of Cuba Airport with the American Legion Riders.  We will follow the Cuba High School Band after their performance to the grand stand with the aircraft for the dedication.  The dedication ceremony will begin at 10:30 AM.\n\n\nPRIMARY STAGING DETAILS: 08-24-19 \nStaging Time: 09:00 am\n \nMobil on the Run\n102 Truman Dr.\nCuba\, Missouri 65453\n\n\nRide Captain: \nKeith Livingstone\nramminon@gmail.com\n573-263-5878\n\n\nSpecial Instructions: \nWe will stage at 9:00 am with a ride briefing from the ALR.  We will then proceed to the airport and park at the end of the runway with the aircraft.\n\nFlags & Water:\nFlags will not be provided\nIf you have large bike flags\, please bring them.\nWater WILL NOT be provided\, please bring your own.\n\n\n\n\nSubmitted By: Keith Livingstone \nPosition: Missouri Ride Captain \n\nNote: You do not have to own/ride a motorcycle or be a veteran to join\, and membership is Free. The only requirement is RESPECT! To subscribe to receive mission notices\, log into the National Site and click on the Members tab at the top. Select the Subscribe to PGR Missions option.\n Print This Page
URL:https://www.patriotguard.org/mission/city-of-cuba-us-marine-aircraft-dedication/
CATEGORIES:HOTH Mission
END:VEVENT
END:VCALENDAR