BEGIN:VCALENDAR
VERSION:2.0
PRODID:-//Patriot Guard Riders - ECPv5.3.2.1//NONSGML v1.0//EN
CALSCALE:GREGORIAN
METHOD:PUBLISH
X-WR-CALNAME:Patriot Guard Riders
X-ORIGINAL-URL:https://www.patriotguard.org
X-WR-CALDESC:Events for Patriot Guard Riders
BEGIN:VTIMEZONE
TZID:America/New_York
BEGIN:DAYLIGHT
TZOFFSETFROM:-0500
TZOFFSETTO:-0400
TZNAME:EDT
DTSTART:20150308T070000
END:DAYLIGHT
BEGIN:STANDARD
TZOFFSETFROM:-0400
TZOFFSETTO:-0500
TZNAME:EST
DTSTART:20151101T060000
END:STANDARD
END:VTIMEZONE
BEGIN:VEVENT
DTSTART;TZID=America/New_York:20150409T090000
DTEND;TZID=America/New_York:20150409T110000
DTSTAMP:20210406T002054
CREATED:20150409T130000Z
LAST-MODIFIED:20191201T125711Z
UID:395713-1428570000-1428577200@www.patriotguard.org
SUMMARY:Chuck Fuller
DESCRIPTION:Chuck Fuller\n\n\nUSMC Veteran 1990-1994\n\n\nPrince Georges County Fireman\n\n\n9 April 2015\n\n\nThe Patriot Guard Riders have been  requested to show honors and respect for USMC veteran Chuck Fuller.  After service in the Marines\, he left the Corps and became a Prince  Georges County Fireman until 2004. He then went to work as a private  contractor in both Iraq and Afghanistan till 2015 after which he  worked for the State Dept. He returned home six months ago only to be  killed in a tragic motor vehicle accident on March 31\, 2015. He rode  missions with the Patriot Guard a few years ago. He is survived by his  wife and daughter and many family and friends who mourn his loss.\n\n\nRally: Thursday 9 April\, 10:15 AM\n\n\nWe will assemble for a short briefing and form our flag line before services.\n\n\nLocation:\n\n\nSacred Heart Church09 APR 15\n\n\n65 Sacred Heart Lane\n\n\nReisterstown\, Md 21136\n\n\nA gathering will be at the church at  11:00 with a service to celebrate Chuck’s life. Following the service  there will be a procession for interment to:\n\n\nGarrison Forest Veteran’s Cemetery\n\n\n11501 Garrison Forest Rd.\n\n\nOwings Mills\, Md 21117\n\n\nRide Captain: Bill Staats\, 410-404-2590\n\n\nWeather is forecast to be 46/52 degs.  with a 50% chance of rain. Remember it’s not how you get there\, only  that you do. Cages are recommended if weather requires it. Safety first\,  last and always. Please dress appropriately\, bring something to stay  hydrated and your 3×5 flags for the flag lines at the church and  cemetery.\n\n\nBill Staats\nMD & DC State Captain
URL:https://www.patriotguard.org/mission/chuck-fuller/
CATEGORIES:Archive
END:VEVENT
END:VCALENDAR