BEGIN:VCALENDAR
VERSION:2.0
PRODID:-//Patriot Guard Riders - ECPv5.3.2.1//NONSGML v1.0//EN
CALSCALE:GREGORIAN
METHOD:PUBLISH
X-WR-CALNAME:Patriot Guard Riders
X-ORIGINAL-URL:https://www.patriotguard.org
X-WR-CALDESC:Events for Patriot Guard Riders
BEGIN:VTIMEZONE
TZID:America/New_York
BEGIN:DAYLIGHT
TZOFFSETFROM:-0500
TZOFFSETTO:-0400
TZNAME:EDT
DTSTART:20190310T070000
END:DAYLIGHT
BEGIN:STANDARD
TZOFFSETFROM:-0400
TZOFFSETTO:-0500
TZNAME:EST
DTSTART:20191103T060000
END:STANDARD
END:VTIMEZONE
BEGIN:VEVENT
DTSTART;VALUE=DATE:20190717
DTEND;VALUE=DATE:20190718
DTSTAMP:20210403T194426
CREATED:20190715T165257Z
LAST-MODIFIED:20190715T165257Z
UID:167727-1563321600-1563407999@www.patriotguard.org
SUMMARY:Christopher William Years
DESCRIPTION:Honor Mission\nChristopher William Years\nUSMC\, USN – WoT\nBeaufort\, South Carolina – 07-17-19\n\n\n\nABOUT THE MISSION: \nThe family of Mr. Christopher William Years has requested the Patriot Guard Riders to honor him prior to his church service and to participate in the escort to his final resting place. He served in the Marine Corps and served with his brother in the Iraq War. He and his wife and one of their 3 year old twin daughters were tragically killed in an automobile wreck while on their way to a family vacation.\nObituary\nWife\nDaughter\n\n\nPRIMARY STAGING DETAILS: 07-17-19 \nStaging Time: 11:45 AM  \nPraise Assembly\n800 Parris Island Gateway\nBeaufort\, South Carolina 29906\nMap\n\n\nRide Captain: \nHarry “Magoo” McKee\n803-840-3077\nno1pghfaninsc@aol.com\n\nBob Wagner\, RCIT843-368-1920\, robert.wagner.45sc@gmail.com\n\n\nSpecial Instructions: \nBrief: 12:00 pm.\nFlag line: Until start of Service.\nService: 1:00 pm.\nAfter the service we will escort Mr. Years to Forest Lawn Cemetery next to Anderson Funeral Home in Beaufort.\n\n\nFlags & Water:\nFlags will be provided\nIf you have large bike flags\, please bring them.\nWater will be provided.\n\nSTAGING #2 DETAILS: 07-17-19 \nStaging Time: 2:30 PM\n \nForest Lawn Cemetery\n611 Robert Smalls Parkway\nBeaufort\, South Carolina 29906\nMap\n\n\nRide Captain: \nHarry “Magoo” McKee\n803-840-3077\nno1pghfaninsc@aol.com\n\nBob Wagner\, RCIT843-368-1920\, robert.wagner.45sc@gmail.com\n\n\nSpecial Instructions: \nWe will render honors and stand a flag line upon arrival of the funeral procession for the duration of the committal service.\n\n\nFlags & Water:\nFlags will be provided\nLarge Bike Flags will NOT be needed.\nWater will be provided.\n\n\n\nSubmitted By: Ray Richards \nPosition: South Carolina Assistant State Captain \n\nNote: You do not have to own/ride a motorcycle or be a veteran to join\, and membership is Free. The only requirement is RESPECT! To subscribe to receive mission notices\, log into the National Site and click on the Members tab at the top. Select the Subscribe to PGR Missions option.\n Print This Page
URL:https://www.patriotguard.org/mission/christopher-william-years/
CATEGORIES:Honor Mission
END:VEVENT
END:VCALENDAR