BEGIN:VCALENDAR
VERSION:2.0
PRODID:-//Patriot Guard Riders - ECPv5.3.2.1//NONSGML v1.0//EN
CALSCALE:GREGORIAN
METHOD:PUBLISH
X-WR-CALNAME:Patriot Guard Riders
X-ORIGINAL-URL:https://www.patriotguard.org
X-WR-CALDESC:Events for Patriot Guard Riders
BEGIN:VTIMEZONE
TZID:America/New_York
BEGIN:DAYLIGHT
TZOFFSETFROM:-0500
TZOFFSETTO:-0400
TZNAME:EDT
DTSTART:20190310T070000
END:DAYLIGHT
BEGIN:STANDARD
TZOFFSETFROM:-0400
TZOFFSETTO:-0500
TZNAME:EST
DTSTART:20191103T060000
END:STANDARD
END:VTIMEZONE
BEGIN:VEVENT
DTSTART;VALUE=DATE:20190705
DTEND;VALUE=DATE:20190706
DTSTAMP:20210404T060224
CREATED:20190703T182537Z
LAST-MODIFIED:20190703T182537Z
UID:166447-1562284800-1562371199@www.patriotguard.org
SUMMARY:Christopher "Sarge" Sargent
DESCRIPTION:Honor Mission\nChristopher “Sarge” Sargent\, Veteran\nUSA\, USMC – GW/ODS\, WoT\nMaple Valley\, Washington – 07-05-19\n\n\n\n\nABOUT THE MISSION: \nWe have been invited by the family to stand for Christopher “Sarge” Sargent\, US Army and US Marine Corp veteran.\nSarge was in the military for 26 years total with half his time with the Marines and the other half with the Army. He made the rank of Staff Sergeant in the USMC and a Sergeant First Class (SFC) in the Army.  Sarge had just been elected the National President of the Brothers in Arms Motorcycle Club\, one week before he tragically passed away in a motorcycle accident.  Let’s give this fellow rider\, veteran and friend the honors he has earned and deserves.\n\n\nPRIMARY STAGING DETAILS: 07-05-19 \nStaging Time: 12:15 p.m.\n \nMcDonald’s\n23225 Maple Valley – Black Diamond Hwy\nMaple Valley\, Washington 98038\n\n\nRide Captain: \nSabrina “Mother Hen” Brown\, pgrmotherhen@gmail.com\, 206-369-14342\nAssisting:  Lyall “Joker” Smith\, lyalls@aol.com\, 360-791-4639\nSV:   CathyLee “HotWheelz” Ryan\, hotwheelz65@gmail.com\, 206-380-9429\n\n\nSpecial Instructions: \nSchedule:  11:45 – RC’s arrive (plan for pre-ride).\n12:15 – Riders arrive\, sign in.\n12:45 – Mission brief.\n1:00 – KSU (allowing extra time for the amount of family attending service).\n1:30 – ceremony start.\n2:00 – or end of service\, quietly fade away & debrief.\nWeather is expected to be in the mid-upper 70’s and dry.  Ride and drive safe!\n\n\nFlags & Water:\nFlags will be provided\nIf you have large bike flags\, please bring them.\nWater will be provided.\n\n\nSubmitted By: Sabrina Brown \nPosition: Washington State Captain \n\nNote: You do not have to own/ride a motorcycle or be a veteran to join\, and membership is Free. The only requirement is RESPECT! To subscribe to receive mission notices\, log into the National Site and click on the Members tab at the top. Select the Subscribe to PGR Missions option.\n Print This Page
URL:https://www.patriotguard.org/mission/christopher-sarge-sargent/
CATEGORIES:Honor Mission
END:VEVENT
END:VCALENDAR