BEGIN:VCALENDAR
VERSION:2.0
PRODID:-//Patriot Guard Riders - ECPv5.3.2.1//NONSGML v1.0//EN
CALSCALE:GREGORIAN
METHOD:PUBLISH
X-WR-CALNAME:Patriot Guard Riders
X-ORIGINAL-URL:https://www.patriotguard.org
X-WR-CALDESC:Events for Patriot Guard Riders
BEGIN:VTIMEZONE
TZID:America/New_York
BEGIN:DAYLIGHT
TZOFFSETFROM:-0500
TZOFFSETTO:-0400
TZNAME:EDT
DTSTART:20180311T070000
END:DAYLIGHT
BEGIN:STANDARD
TZOFFSETFROM:-0400
TZOFFSETTO:-0500
TZNAME:EST
DTSTART:20181104T060000
END:STANDARD
END:VTIMEZONE
BEGIN:VEVENT
DTSTART;TZID=America/New_York:20180323T173000
DTEND;TZID=America/New_York:20180323T193000
DTSTAMP:20210405T173731
CREATED:20180323T213000Z
LAST-MODIFIED:20191201T031212Z
UID:316441-1521826200-1521833400@www.patriotguard.org
SUMMARY:Christopher Ray McGlauchlen\, Veteran\, USMC\, Fire - WoT
DESCRIPTION:Honor Mission \nChristopher Ray McGlauchlen\, Veteran\nUSMC Fire  – WoT\nMadison\, Georgia – 23 Mar 2018\n\n\n[HR][/HR]\nABOUT THE MISSION: \n\nThe family of United States Marine veteran and volunteer firefighter Christopher Ray McGlauchlen has asked the Patriot Guard Riders to stand in honor of Christopher’s service to his country and to his community\, and it is with a heavy heart that we accept their request. \nChris believed in serving.  He joined the United States Marines following his graduation from Morgan County High School\, and did two tours of duty in Iraq before coming home to help his dad with his construction and remodeling business.  But his service did not stop with the Marines\, Chris served as a volunteer firefighter with Morgan County Station #8\, until he was not longer able to do so. \nHe leaves behind a wife\, a two year old son\, a twin sister\, three brothers\, and a large extended family. Chris McGlauchlen knew what it was to serve\, and it will be our honor to stand for him\, and honor his legacy of service.\n \n\nPRIMARY STAGING DETAILS:  23 Mar 2018\nPrimary Staging Time: 5:30 P.M. \n\nA. E. Carter Funeral Home\n1670 Atlanta Hwy\nMadison\, Georgia – 30650\n\n\nRide Captain: \n\nDavid (Wild1) Shreckengost\nwild1handy@yahoo.com\n678-663-2835\n\n\nSpecial Instructions: \n\nWe will stand a silent flag line of respect for the family visitation.\n\n\nFlags & Water: \n\nFlags Will Be Provided\nLarge Bike Flags will NOT be needed.\nWater will be provided.\n\n[HR][/HR]STAGING #2 DETAILS: 24 Mar\, 2018\nStaging #2 Time: 10:15 A.M. \n\nSandy Creek Baptist Church\n4620 Sandy Creek Rd\nMadison\, Georgia – 30650\n\n\nRide Captain: \n\nDavid (Wild1) Shreckengost\nwild1handy@yahoo.com\n678-663-2835\n\n\nSpecial Instructions: \n\nWe will stand a flag line of silent respect prior to the start of the 11 am service. \nFollowing the service\, we will stand a flag line at the cemetery adjacent to the church\, while military and firefighters render graveside honors.\n \n\nFlags & Water: \n\nFlags Will Be Provided\nLarge Bike Flags will NOT be needed\nWater will be provided.\n\nSubmitted By: David Shreckengost\nPosition: Ride Captain\n[HR][/HR]Note:\nYou do not have to own/ride a motorcycle or be a Veteran to join and membership is Free. The only requirement is RESPECT! To join\, simply go to www.PatriotGuard.org and click on Register. Membership is Free. \nTo subscribe to receive mission notices\, log into the National Site and click on the Mission Tab at the top. Select the Subscribe to Missions option.
URL:https://www.patriotguard.org/mission/christopher-ray-mcglauchlen-veteran-usmc-fire-wot/
LOCATION:Lee Wayne Knight
END:VEVENT
END:VCALENDAR