BEGIN:VCALENDAR
VERSION:2.0
PRODID:-//Patriot Guard Riders - ECPv5.3.2.1//NONSGML v1.0//EN
CALSCALE:GREGORIAN
METHOD:PUBLISH
X-WR-CALNAME:Patriot Guard Riders
X-ORIGINAL-URL:https://www.patriotguard.org
X-WR-CALDESC:Events for Patriot Guard Riders
BEGIN:VTIMEZONE
TZID:America/New_York
BEGIN:DAYLIGHT
TZOFFSETFROM:-0500
TZOFFSETTO:-0400
TZNAME:EDT
DTSTART:20190310T070000
END:DAYLIGHT
BEGIN:STANDARD
TZOFFSETFROM:-0400
TZOFFSETTO:-0500
TZNAME:EST
DTSTART:20191103T060000
END:STANDARD
END:VTIMEZONE
BEGIN:VEVENT
DTSTART;VALUE=DATE:20190725
DTEND;VALUE=DATE:20190727
DTSTAMP:20210404T065604
CREATED:20190724T195021Z
LAST-MODIFIED:20190724T195021Z
UID:168693-1564012800-1564185599@www.patriotguard.org
SUMMARY:Christopher (Chris) J. Dunn
DESCRIPTION:Honor Mission\nChristopher (Chris) J. Dunn\, Veteran\nUSA – Vietnam\nColumbus\, Georgia – 07-25-19\n\n\n\nABOUT THE MISSION: \nThe family of Christopher (Chris) J. Dunn has requested the Patriot Guard stand to honor their loved one’s service to our country. It is our honor to do so. Mr. Dunn passed away on July 21\, 2019 in Columbus\, GA. He was 75 years old. Mr. Dunn was a University of Georgia graduate and earned a commission in the US Army through Officer Candidate School. Mr. Dunn was a Vietnam veteran whose awards include the Bronze Star Medal\, the Army Commendation Medal and the Vietnam Service Medal. After his Military service Mr. Dunn worked for the Corps of Engineers until his retirement. Mr. Dunn was also an active member of the Harley Owners Group and was a Deacon in his church. Mr. Dunn stood for us and now it is our turn to stand for him.\n\n\nPRIMARY STAGING DETAILS: 07-25-19 \nStaging Time: 5:15 PM\n \nStriffler-Hamby Mortuary\n4071 Macon Road\nColumbus\, Georgia 31907\n\n\nRide Captain: \nRob “Bees” Butler\n706 987-0686\n\n\nSpecial Instructions: \nVisitation: 6-8 PM\n\n\nFlags & Water:\nFlags will be provided\nLarge Bike Flags will NOT be needed.\nWater will be provided.\n\nSTAGING #2 DETAILS: 07-26-19 \nStaging Time: 10:15 AM\n \nStriffler-Hamby Mortuary\n4071 Macon Road\nColumbus\, Georgia 31907\n\n\nRide Captain: \nRob “Bees” Butler\n706 987-0686\n\n\nSpecial Instructions: \nService: 11:00 am.\nAfter the service we will escort Mr. Dunn to his final resting place at Parkhill Cemetery\, which is adjacent to the funeral home.\n\n\nFlags & Water:\nFlags will be provided\nIf you have large bike flags\, please bring them.\nWater will be provided.\n\n\n\nSubmitted By: Rob Butler \nPosition: Georgia Ride Captain \n\nNote: You do not have to own/ride a motorcycle or be a veteran to join\, and membership is Free. The only requirement is RESPECT! To subscribe to receive mission notices\, log into the National Site and click on the Members tab at the top. Select the Subscribe to PGR Missions option.\n Print This Page
URL:https://www.patriotguard.org/mission/christopher-chris-j-dunn/
CATEGORIES:Honor Mission
END:VEVENT
END:VCALENDAR