BEGIN:VCALENDAR
VERSION:2.0
PRODID:-//Patriot Guard Riders - ECPv5.3.2.1//NONSGML v1.0//EN
CALSCALE:GREGORIAN
METHOD:PUBLISH
X-WR-CALNAME:Patriot Guard Riders
X-ORIGINAL-URL:https://www.patriotguard.org
X-WR-CALDESC:Events for Patriot Guard Riders
BEGIN:VTIMEZONE
TZID:America/New_York
BEGIN:DAYLIGHT
TZOFFSETFROM:-0500
TZOFFSETTO:-0400
TZNAME:EDT
DTSTART:20210314T070000
END:DAYLIGHT
BEGIN:STANDARD
TZOFFSETFROM:-0400
TZOFFSETTO:-0500
TZNAME:EST
DTSTART:20211107T060000
END:STANDARD
END:VTIMEZONE
BEGIN:VEVENT
DTSTART;VALUE=DATE:20210331
DTEND;VALUE=DATE:20210401
DTSTAMP:20210403T001030
CREATED:20210330T095355Z
LAST-MODIFIED:20210330T095355Z
UID:573266-1617148800-1617235199@www.patriotguard.org
SUMMARY:Christian Brown
DESCRIPTION:Honor Mission\nChristian Brown\, Veteran\nUSA\nTallahassee\, Florida – 03-31-21\nShort Notice\n\n\n\nABOUT THE MISSION: \nThe Patriot Guard Riders have been invited to stand in silent respect for this hero. Christian Brown stood for us and now we will stand for him.\nChristian Brown served honorably in the United States Army.\n\n\nPRIMARY STAGING DETAILS: 03-31-21 \nStaging Time: 11:30 AM \nTallahassee National Cemetery\n5015 Apalachee Parkway (Committal Shelter No. 2)\nTallahassee\, Florida 32311\n\n\nRide Captain: \nDon Reeder\n850-933-0886\nfloridasailor@comcast.net\n\n\nSpecial Instructions: \nBriefing: 11:45 AM\nFlag Line: 11:50 AM\nWe will stand a flag line during his interment service.\nInterment Service: 12:00 Noon\n\nCovid19 precautions will be observed per PGR National\, including the mandatory donning of face masks throughout the mission\, social distancing of 6 feet & 20 feet from the family and the use of hand sanitizer.\n\n\nFlags & Water:\nFlags will be provided\nLarge Bike Flags will NOT be needed.\nWater WILL NOT be provided\, please bring your own.\n\n\n\nSubmitted By: Don Reeder \nPosition: Florida Assistant State Captain \n\nNote: You do not have to own/ride a motorcycle or be a veteran to join\, and membership is Free. The only requirement is RESPECT! To subscribe to receive mission notices\, log into the National Site and click on the Members tab at the top. Select the Subscribe to PGR Missions option.\n Print This Page
URL:https://www.patriotguard.org/mission/christian-brown/
CATEGORIES:Honor Mission
END:VEVENT
END:VCALENDAR