BEGIN:VCALENDAR
VERSION:2.0
PRODID:-//Patriot Guard Riders - ECPv5.3.2.1//NONSGML v1.0//EN
CALSCALE:GREGORIAN
METHOD:PUBLISH
X-WR-CALNAME:Patriot Guard Riders
X-ORIGINAL-URL:https://www.patriotguard.org
X-WR-CALDESC:Events for Patriot Guard Riders
BEGIN:VTIMEZONE
TZID:America/New_York
BEGIN:DAYLIGHT
TZOFFSETFROM:-0500
TZOFFSETTO:-0400
TZNAME:EDT
DTSTART:20190310T070000
END:DAYLIGHT
BEGIN:STANDARD
TZOFFSETFROM:-0400
TZOFFSETTO:-0500
TZNAME:EST
DTSTART:20191103T060000
END:STANDARD
END:VTIMEZONE
BEGIN:VEVENT
DTSTART;VALUE=DATE:20190613
DTEND;VALUE=DATE:20190615
DTSTAMP:20210404T232409
CREATED:20190612T023147Z
LAST-MODIFIED:20190612T023147Z
UID:164524-1560384000-1560556799@www.patriotguard.org
SUMMARY:Chris Moore
DESCRIPTION:Honor Mission\nChris Moore\, Active Duty\n–\nMaryland Heights\, Missouri – 06-13-19\n\n\n\nABOUT THE MISSION: \nThe family of Firefighter Paramedic Chris Moore has requested that we stand a flag line prior to the services for their loved one. It will be our privilege and honor to do so. Hero Moore served the citizens of Maryland Heights\, Eureka and the Metro-West Fire Protection District as a professional firefighter paramedic. He passed away suddenly on Saturday June 8\, 2019. He further served the citizens of this great country when he deployed to New York on 9/11 and Louisiana for Hurricane Katrina. Firefighter Paramedic Moore received many Medals of Valor for actions taken during emergency incidents. He is survived by his children\, parents\, sister and an unending list of Brothers and Sisters in Blue. Please join me in standing tall\, silent and respectful in a flag line of honor for this American Warrior. Stand down Sir; your watch here has been completed. Your next duty station will be to patrol the streets of Heaven. We come to thank you and honor you for your service to our community and nation. You will never be forgotten.\n\n\nPRIMARY STAGING DETAILS: 06-13-19 \nStaging Time: 3:45 PM\n \nGrace Church\n2695 Creve Coeur Mill Road\nMaryland Heights\, Missouri 63043\n\n\nRide Captain: \nRick “Curly” Kroeger\nrickkroeger@hotmail.com\n314.954.3060\n\n\nSpecial Instructions: \nFlag line from 4:00 PM to 8:00 PM.\nCome and go as you can to support this very important mission.\nFire Departments from around the nation are expected to attend.\nLet’s show those departments how we honor our fallen first responders.\nFlag Support: TBD\n\n\nFlags & Water:\nFlags will be provided\nLarge Bike Flags will NOT be needed.\nWater will be provided.\n\nSTAGING #2 DETAILS: 06-14-19 \nStaging Time: 09:15 AM\n \nGrace Church\n2695 Creve Coeur Mill RD\nMaryland Heights\, Missouri 63043\n\n\nRide Captain: \nRick “Curly” Kroeger\nrickkroeger@hotmail.com\n314.954.3060\n\n\nSpecial Instructions: \nWe will stand a flag line prior to the services for Hero Moore.\nEscort: After service to Holy Cross Cemetery for Fire Department honors and internment.\nWeather: Current forecasts calls for cloudy with temps in the 80’s.\nRide safe\, ride defensively.\nCages welcome!\nOVER-HYDRATE the night before as well as the morning of this mission. Coffee is not hydration!\nFlag Support: TBD\n\n\nFlags & Water:\nFlags will be provided\nIf you have large bike flags\, please bring them.\nWater will be provided.\n\n\n\nSubmitted By: Rick Kroeger \nPosition: Missouri Ride Captain \n\nNote: You do not have to own/ride a motorcycle or be a veteran to join\, and membership is Free. The only requirement is RESPECT! To subscribe to receive mission notices\, log into the National Site and click on the Members tab at the top. Select the Subscribe to PGR Missions option.\n Print This Page
URL:https://www.patriotguard.org/mission/chris-moore/
CATEGORIES:Honor Mission
END:VEVENT
END:VCALENDAR