BEGIN:VCALENDAR
VERSION:2.0
PRODID:-//Patriot Guard Riders - ECPv5.3.2.1//NONSGML v1.0//EN
CALSCALE:GREGORIAN
METHOD:PUBLISH
X-WR-CALNAME:Patriot Guard Riders
X-ORIGINAL-URL:https://www.patriotguard.org
X-WR-CALDESC:Events for Patriot Guard Riders
BEGIN:VTIMEZONE
TZID:America/New_York
BEGIN:DAYLIGHT
TZOFFSETFROM:-0500
TZOFFSETTO:-0400
TZNAME:EDT
DTSTART:20190310T070000
END:DAYLIGHT
BEGIN:STANDARD
TZOFFSETFROM:-0400
TZOFFSETTO:-0500
TZNAME:EST
DTSTART:20191103T060000
END:STANDARD
END:VTIMEZONE
BEGIN:VEVENT
DTSTART;VALUE=DATE:20190725
DTEND;VALUE=DATE:20190726
DTSTAMP:20210404T023449
CREATED:20190724T212948Z
LAST-MODIFIED:20190724T212948Z
UID:168707-1564012800-1564099199@www.patriotguard.org
SUMMARY:Chris "Bubba" T. Evans
DESCRIPTION:Honor Mission\nChris “Bubba” T. Evans\, Retired\nUSA\, USAR –\nBenton\, Kentucky – 07-25-19\n\n\n\nABOUT THE MISSION: \nChris “Bubba” T. Evans served 20 years as a Benton\, KY Police Officer. He retired from the Army as a Lieutenant Colonel then served in the Army Reserves as a U.S. Marshal.\n\n\nPRIMARY STAGING DETAILS: 07-25-19 \nStaging Time: 09:00 AM\n \nPockets Shell\n1009 Paris Road\nMayfield\, Kentucky 42066\n\n\nRide Captain: \nRandie Baldree”Whitelightning”\n270-705-2354\nrandieb@wk.net\n\n\nSpecial Instructions: \nKSU at 9:15 a.m.\n\n\nFlags & Water:\nFlags will be provided\nIf you have large bike flags\, please bring them.\nWater WILL NOT be provided\, please bring your own.\n\nSTAGING #2 DETAILS: 07-25-19 \nStaging Time: 09:45 AM\n \nFilbeck-Cann Funeral Home\nCourt Square\nBenton\, Kentucky 42066\n\n\nRide Captain: \nRandie Baldree “Whitelightning”\n270-705-2354\nrandieb@wk.net\n\n\nSpecial Instructions: \n\n\nFlags & Water:\nFlags will be provided\nIf you have large bike flags\, please bring them.\nWater WILL NOT be provided\, please bring your own.\n\n\n\nSubmitted By: Randie Baldree \nPosition: Kentucky Ride Captain \n\nNote: You do not have to own/ride a motorcycle or be a veteran to join\, and membership is Free. The only requirement is RESPECT! To subscribe to receive mission notices\, log into the National Site and click on the Members tab at the top. Select the Subscribe to PGR Missions option.\n Print This Page
URL:https://www.patriotguard.org/mission/chris-bubba-t-evans/
CATEGORIES:Honor Mission
END:VEVENT
END:VCALENDAR