BEGIN:VCALENDAR
VERSION:2.0
PRODID:-//Patriot Guard Riders - ECPv5.6.0//NONSGML v1.0//EN
CALSCALE:GREGORIAN
METHOD:PUBLISH
X-WR-CALNAME:Patriot Guard Riders
X-ORIGINAL-URL:https://www.patriotguard.org
X-WR-CALDESC:Events for Patriot Guard Riders
BEGIN:VTIMEZONE
TZID:America/New_York
BEGIN:DAYLIGHT
TZOFFSETFROM:-0500
TZOFFSETTO:-0400
TZNAME:EDT
DTSTART:20160313T070000
END:DAYLIGHT
BEGIN:STANDARD
TZOFFSETFROM:-0400
TZOFFSETTO:-0500
TZNAME:EST
DTSTART:20161106T060000
END:STANDARD
END:VTIMEZONE
BEGIN:VEVENT
DTSTART;TZID=America/New_York:20160721T090000
DTEND;TZID=America/New_York:20160721T110000
DTSTAMP:20210512T150826
CREATED:20160721T130000Z
LAST-MODIFIED:20191201T144150Z
UID:410446-1469091600-1469098800@www.patriotguard.org
SUMMARY:Chief John H. Wilson III
DESCRIPTION:21 JUL 2016\nThursday\nChief John H. Wilson III\nLaw Enforcement Officer\n1976-2004\nMontgomery\, AL\n\n\n\nFellow PGR Riders\, \nIt is with a heavy heart that I must inform you that America has lost another true American hero.  The family of retired Chief of Police of Montgomery\, John H. Wilson III\, has requested Patriot Guard Riders to stand in honor of his life of service to the citizens of our community and state.  John joined the Montgomery Police Department in 1976 at the age of 22 and rose through the ranks until promoted to Chief of Police just 10 years later.  He service as the Chief of Police for 19 years until he retired in 2007.  He was known for his wit and generosity\, his dedication to his community and his deep expression of faith in God. \nPatriot Guard Riders will stand in his honor at his memorial service at Frazer United Methodist Church\, 6000 Atlanta Hwy\, Montgomery. \nSTAGING INFO\nLOCATION:  Frazer United Methodist Church\, 6000 Atlanta Hwy\, Montgomery\, AL\nTIME:  3:30 p.m.\nKSU:  N/A\nRCIC:  Tommy “T-Bird” Beeson\,  334-207-7099 \nWeather Forecast:  Clear / high of 98 degrees.  Please stay hydrated before\, during and after this event. \nJohn H. Wilson III spent his entire life in dedicated service to our community and all of is\, its citizens.  Now it is our turn to stand for him.
URL:https://www.patriotguard.org/mission/chief-john-h-wilson-iii/
CATEGORIES:Archive
END:VEVENT
END:VCALENDAR