BEGIN:VCALENDAR
VERSION:2.0
PRODID:-//Patriot Guard Riders - ECPv5.3.2.1//NONSGML v1.0//EN
CALSCALE:GREGORIAN
METHOD:PUBLISH
X-WR-CALNAME:Patriot Guard Riders
X-ORIGINAL-URL:https://www.patriotguard.org
X-WR-CALDESC:Events for Patriot Guard Riders
BEGIN:VTIMEZONE
TZID:America/New_York
BEGIN:DAYLIGHT
TZOFFSETFROM:-0500
TZOFFSETTO:-0400
TZNAME:EDT
DTSTART:20190310T070000
END:DAYLIGHT
BEGIN:STANDARD
TZOFFSETFROM:-0400
TZOFFSETTO:-0500
TZNAME:EST
DTSTART:20191103T060000
END:STANDARD
END:VTIMEZONE
BEGIN:VEVENT
DTSTART;VALUE=DATE:20190606
DTEND;VALUE=DATE:20190608
DTSTAMP:20210405T035826
CREATED:20190602T231052Z
LAST-MODIFIED:20190602T231140Z
UID:163285-1559779200-1559951999@www.patriotguard.org
SUMMARY:Chester S Mals
DESCRIPTION:Honor Mission\nChester S Mals\, Veteran\nUSN – WWII\nDayton\, Ohio – 06-06-19\n\n\n\nABOUT THE MISSION: \nObituary\n\n\nPRIMARY STAGING DETAILS: 06-06-19 \nStaging Time: 4:00 PM\n \nTobias Funeral Home – Far Hills Chapel\n5471 Far Hills Ave\nDayton\, Ohio 45429\n\n\nRide Captain: \nDistrict #7 Ride Captain Pat Butchkoski\npbutchkosk@aol.com\n\n\nSpecial Instructions: \nVisitation\n\n\nFlags & Water:\nFlags will not be provided\nLarge Bike Flags will NOT be needed.\nWater WILL NOT be provided\, please bring your own.\n\nSTAGING #2 DETAILS: 06-07-19 \nStaging Time: 09:30 AM  \nSt Francis of Assisi Catholic Church\n6245 Wilmington Pike\nCenterville\, Ohio 45459\n\n\nRide Captain: \nPat Butchkoski\npbutchkosk@aol.com\n\n\nSpecial Instructions: \n\n\nFlags & Water:\nFlags will not be provided\nIf you have large bike flags\, please bring them.\nWater WILL NOT be provided\, please bring your own.\n\n\n\nSubmitted By: Robert Woods \nPosition: Ohio State Captain \n\nNote: You do not have to own/ride a motorcycle or be a veteran to join\, and membership is Free. The only requirement is RESPECT! To subscribe to receive mission notices\, log into the National Site and click on the Members tab at the top. Select the Subscribe to PGR Missions option.\n Print This Page
URL:https://www.patriotguard.org/mission/chester-s-mals/
CATEGORIES:Honor Mission
END:VEVENT
END:VCALENDAR