BEGIN:VCALENDAR
VERSION:2.0
PRODID:-//Patriot Guard Riders - ECPv5.3.2.1//NONSGML v1.0//EN
CALSCALE:GREGORIAN
METHOD:PUBLISH
X-WR-CALNAME:Patriot Guard Riders
X-ORIGINAL-URL:https://www.patriotguard.org
X-WR-CALDESC:Events for Patriot Guard Riders
BEGIN:VTIMEZONE
TZID:America/New_York
BEGIN:DAYLIGHT
TZOFFSETFROM:-0500
TZOFFSETTO:-0400
TZNAME:EDT
DTSTART:20190310T070000
END:DAYLIGHT
BEGIN:STANDARD
TZOFFSETFROM:-0400
TZOFFSETTO:-0500
TZNAME:EST
DTSTART:20191103T060000
END:STANDARD
END:VTIMEZONE
BEGIN:VEVENT
DTSTART;VALUE=DATE:20190906
DTEND;VALUE=DATE:20190907
DTSTAMP:20210401T134758
CREATED:20190904T184117Z
LAST-MODIFIED:20190904T184117Z
UID:172772-1567728000-1567814399@www.patriotguard.org
SUMMARY:Chester J. Billingsley
DESCRIPTION:Honor Mission\nChester J. Billingsley\, Retired\nUSAF –\nPrattville\, Alabama – 09-06-19\n\n\n\nABOUT THE MISSION: \nThe family of MSgt Chester J Billingsley has requested the Patriot Guard stand a silent flag line for their hero at his visitation and memorial service followed with an escort to his final resting place at Memory Gardens Cemetary. MSgt Billingsley devoted 20 years of his life to serve and protect this country. MSgt Billingsley stood for us\, now it’s time for us to stand in honor for him.\n\n\nPRIMARY STAGING DETAILS: 09-06-19 \nStaging Time: 09:30 AM\n \nChevron Station\n101 N Memorial Dr.\nPrattville\, Alabama 36067\nMap\n\n\nRide Captain: \nDon “Sailor” Day\n\n\nSpecial Instructions: \nStaging at 9:30 am.\nKSU at 9:40. We will proceed to Ridout Funeral Home and stand flag line.\nFamily visitation at 10:00am.\nPublic visitation at 11:00am.\nMemorial services at 12:00 noon.\nFollowing service we will escort the family to Memory Gardens Cemetery.\nPlease bring your own water to stay hydrated.\nFridays forecast calls for a high of 94 degrees with zero chance of precipitation.\nLarge bike flags will be needed.\n\n\nFlags & Water:\nFlags will be provided\nIf you have large bike flags\, please bring them.\nWater WILL NOT be provided\, please bring your own.\n\n\n\nSubmitted By: James Mason \nPosition: Alabama Ride Captain \n\nNote: You do not have to own/ride a motorcycle or be a veteran to join\, and membership is Free. The only requirement is RESPECT! To subscribe to receive mission notices\, log into the National Site and click on the Members tab at the top. Select the Subscribe to PGR Missions option.\n Print This Page
URL:https://www.patriotguard.org/mission/chester-j-billingsley/
CATEGORIES:Honor Mission
END:VEVENT
END:VCALENDAR