BEGIN:VCALENDAR
VERSION:2.0
PRODID:-//Patriot Guard Riders - ECPv5.3.2.1//NONSGML v1.0//EN
CALSCALE:GREGORIAN
METHOD:PUBLISH
X-WR-CALNAME:Patriot Guard Riders
X-ORIGINAL-URL:https://www.patriotguard.org
X-WR-CALDESC:Events for Patriot Guard Riders
BEGIN:VTIMEZONE
TZID:America/New_York
BEGIN:DAYLIGHT
TZOFFSETFROM:-0500
TZOFFSETTO:-0400
TZNAME:EDT
DTSTART:20130310T070000
END:DAYLIGHT
BEGIN:STANDARD
TZOFFSETFROM:-0400
TZOFFSETTO:-0500
TZNAME:EST
DTSTART:20131103T060000
END:STANDARD
END:VTIMEZONE
BEGIN:VEVENT
DTSTART;TZID=America/New_York:20130720T090000
DTEND;TZID=America/New_York:20130720T110000
DTSTAMP:20210401T222044
CREATED:20130720T130000Z
LAST-MODIFIED:20191201T115948Z
UID:385282-1374310800-1374318000@www.patriotguard.org
SUMMARY:Chester H. Watson\, USAAC\, WWII Veteran
DESCRIPTION:To All PGR Members\, \nWe have been invited to stand a flag line for Chester H. Watson\, a Sergeant in the US Army Air Corps\, veteran of WWII. Chet was the consummate gentleman\, a leader in the community\, and above all\, a great family man. Though he did not speak of his time in service\, his African and European campaign ribbons with 6 Bronze Battle stars speak for themselves. \nHe is survived by Betty\, his wife of 65yrs\, 2 sons and 2 grandchildren. He was a member of numerous community organizations\, some of which include the VFW Joseph M. Collins Post #6239 and a 68 yr member of the Attica American Legion (Harder O’Donnel Post). \nHe was part of a special group of men that made our world a better place live. I am honored to call him a “friend.” \nMission Information:\nSt. Paul’s United Church of Christ\n11 Washington St.\nAttica\, NY 14011 \n10am Saturday July 20th\nPGR Parking will be in the public parking lot on Water Street (behind the church parking lot).\nFlag line only\, no escort. \nLRC Ken Lyons\n585-356-8259\nkandrlyons@inbox.com \nKen Lyons\nRide Captain\nkandrlyons@inbox.com
URL:https://www.patriotguard.org/mission/chester-h-watson-usaac-wwii-veteran/
CATEGORIES:Archive
END:VEVENT
END:VCALENDAR