BEGIN:VCALENDAR
VERSION:2.0
PRODID:-//Patriot Guard Riders - ECPv5.3.2.1//NONSGML v1.0//EN
CALSCALE:GREGORIAN
METHOD:PUBLISH
X-WR-CALNAME:Patriot Guard Riders
X-ORIGINAL-URL:https://www.patriotguard.org
X-WR-CALDESC:Events for Patriot Guard Riders
BEGIN:VTIMEZONE
TZID:America/New_York
BEGIN:DAYLIGHT
TZOFFSETFROM:-0500
TZOFFSETTO:-0400
TZNAME:EDT
DTSTART:20190310T070000
END:DAYLIGHT
BEGIN:STANDARD
TZOFFSETFROM:-0400
TZOFFSETTO:-0500
TZNAME:EST
DTSTART:20191103T060000
END:STANDARD
END:VTIMEZONE
BEGIN:VEVENT
DTSTART;VALUE=DATE:20190909
DTEND;VALUE=DATE:20190912
DTSTAMP:20210401T080916
CREATED:20190906T125541Z
LAST-MODIFIED:20190906T125541Z
UID:172800-1567987200-1568246399@www.patriotguard.org
SUMMARY:Cherokee Warrior Flight
DESCRIPTION:Send-off\nCherokee Warrior Flight\, Veteran\nUSA USMC USN USAF – WWII\, Korea\, Vietnam\nSiloam Springs\, Arkansas – 09-09-19\n\n\n\nABOUT THE MISSION: \nCherokee Warrior Flight\n\n\nPRIMARY STAGING DETAILS: 09-09-19 \nStaging Time: 04:00 AM\n \nCherokee Casino\n2416 US 412\nWest Siloam Springs\, OK 74338\nMap\n\n\nRide Captain: \nTBD\n\n\nSpecial Instructions: \nStage at Casino at 4am.\nBriefing at 04:30 am.\nEscort at 05:00 am to XNA.\n\n\nFlags & Water:\nFlags will not be provided\nIf you have large bike flags\, please bring them.\nWater WILL NOT be provided\, please bring your own.\n\nSTAGING #2 DETAILS: 09-11-19 \nStaging Time: 7:00 PM\n \nNW Arkansas Regional Airport\nHighfill\, Arkansas\nMap\n\n\nRide Captain: \nTBD\n\n\nSpecial Instructions: \nStage at XNA for flag line for returning veterans.\nStage at 06:30 pm\n\n\nFlags & Water:\nFlags will be provided\nLarge Bike Flags will NOT be needed.\nWater WILL NOT be provided\, please bring your own.\n\n\n\nSubmitted By: Gregory Weeks \nPosition: \n\nNote: You do not have to own/ride a motorcycle or be a veteran to join\, and membership is Free. The only requirement is RESPECT! To subscribe to receive mission notices\, log into the National Site and click on the Members tab at the top. Select the Subscribe to PGR Missions option.\n Print This Page
URL:https://www.patriotguard.org/mission/cherokee-warrior-flight/
CATEGORIES:Send-off
END:VEVENT
END:VCALENDAR