BEGIN:VCALENDAR
VERSION:2.0
PRODID:-//Patriot Guard Riders - ECPv5.3.2.1//NONSGML v1.0//EN
CALSCALE:GREGORIAN
METHOD:PUBLISH
X-WR-CALNAME:Patriot Guard Riders
X-ORIGINAL-URL:https://www.patriotguard.org
X-WR-CALDESC:Events for Patriot Guard Riders
BEGIN:VTIMEZONE
TZID:America/New_York
BEGIN:DAYLIGHT
TZOFFSETFROM:-0500
TZOFFSETTO:-0400
TZNAME:EDT
DTSTART:20190310T070000
END:DAYLIGHT
BEGIN:STANDARD
TZOFFSETFROM:-0400
TZOFFSETTO:-0500
TZNAME:EST
DTSTART:20191103T060000
END:STANDARD
END:VTIMEZONE
BEGIN:VEVENT
DTSTART;VALUE=DATE:20190717
DTEND;VALUE=DATE:20190718
DTSTAMP:20210403T184329
CREATED:20190717T004136Z
LAST-MODIFIED:20190717T004136Z
UID:167776-1563321600-1563407999@www.patriotguard.org
SUMMARY:Charles Walter Brown\, Jr.
DESCRIPTION:Honor Mission\nCharles Walter Brown\, Jr.\, Active Duty\nARNG –\nMULTI-CITY\, Texas – 07-17-19\n\n\n\nABOUT THE MISSION: \nFuneral Service & Procession\, Interment Service.\n\n\nPRIMARY STAGING DETAILS: 07-17-19 \nStaging Time: 11:00 AM\n \nBean Massey Burge Funeral Home\n2951 S Belt Line Road\nGrand Prairie\, Texas 75052\n\n\nRide Captain: \nRick Elliott\nrick.elliott@yahoo.com\n(214) 356-7535\n\nAsst: Mark Gravit\, putt4dou@msn.com\, (720) 422-9221\nMike Flocken\, mikefl@flash.net\, (214) 458-4473\n\n\nSpecial Instructions: \nStaging Time: 11:00\nBriefing Time: 11:10\nIn Position/KSU Time: 11:20\nStarting Time: 12:00\nRiders will stage at the funeral home\, post Flags\, receive the mission brief and stand the Flag Line as family and guests arrive. When directed\, Flags will be returned to the support vehicle to be furled and put away. Flag bikes will be selected to accompany the procession to DFWNC. Riders not riding in the procession will proceed to DFWNC for interment service to be held at 2:00 pm. Procession: Escort Provided\n\n\nFlags & Water:\nFlags will be provided\nIf you have large bike flags\, please bring them.\nWater will be provided.\n\nSTAGING #2 DETAILS: 07-17-19 \nStaging Time: 1:15 PM\n \nDFW National Cemetery\n2000 Mountain Creek Pkwy\nDallas\, Texas 75211\n\n\nRide Captain: \nSame as Stage #1\n\n\nSpecial Instructions: \nStaging Time: 1:15\nBriefing Time: 1:30\nIn Position/KSU Time: 1:45\nStarting Time: 2:00\nRiders will stage at DFWNC visitor center to receive the mission brief. When directed\, riders will proceed to the assigned shelter\, stage Flags and await the funeral procession. After the service ends\, Flags will be returned to the storage unit\, furled and put away.\n\n\nFlags & Water:\nFlags will be provided\nIf you have large bike flags\, please bring them.\nWater will be provided.\n\n\n\nSubmitted By: Dan Mathys \nPosition: Texas Ride Captain \n\nNote: You do not have to own/ride a motorcycle or be a veteran to join\, and membership is Free. The only requirement is RESPECT! To subscribe to receive mission notices\, log into the National Site and click on the Members tab at the top. Select the Subscribe to PGR Missions option.\n Print This Page
URL:https://www.patriotguard.org/mission/charles-walter-brown-jr/
CATEGORIES:Honor Mission
END:VEVENT
END:VCALENDAR