BEGIN:VCALENDAR
VERSION:2.0
PRODID:-//Patriot Guard Riders - ECPv5.3.2.1//NONSGML v1.0//EN
CALSCALE:GREGORIAN
METHOD:PUBLISH
X-WR-CALNAME:Patriot Guard Riders
X-ORIGINAL-URL:https://www.patriotguard.org
X-WR-CALDESC:Events for Patriot Guard Riders
BEGIN:VTIMEZONE
TZID:America/New_York
BEGIN:DAYLIGHT
TZOFFSETFROM:-0500
TZOFFSETTO:-0400
TZNAME:EDT
DTSTART:20170312T070000
END:DAYLIGHT
BEGIN:STANDARD
TZOFFSETFROM:-0400
TZOFFSETTO:-0500
TZNAME:EST
DTSTART:20171105T060000
END:STANDARD
END:VTIMEZONE
BEGIN:VEVENT
DTSTART;TZID=America/New_York:20170426T084500
DTEND;TZID=America/New_York:20170426T104500
DTSTAMP:20210405T232321
CREATED:20170426T124500Z
LAST-MODIFIED:20191201T031625Z
UID:321802-1493196300-1493203500@www.patriotguard.org
SUMMARY:Charles W. "Squirley" Bryson\, Sr.\, Veteran\, USA - WWII
DESCRIPTION:Charles W “Squirley” Bryson Sr\, Veteran \nUSA  – WWII \nQuincy\, Illinois – 26 Apr 2017\n\n\n[HR][/HR] \n\n\nABOUT THE MISSION: \nThe Patriot Guard has been requested by the family of Charles W.  “Squirley” Bryson\, Sr. to participate in his funeral and escort him to his  final resting place in honor of his service to this Great Nation.  Charles proudly served in the US Army during WWII. He served in Company B  703rd Military Police Battalion. His unit was awarded the Meritorious  Unit Citation. Charles was a member and the Past Commander of Bear Creek  American Legion Post 823. He was Secretary of Marcelline Masonic Lodge  No. 114. He was a former member of the Quincy Consistory and the Ansar  Temple of Springfield. Charles was able to go on the Honor Flight with  his son in 2013. He was employed by the Electric Wheel Division  of Firestone for 35 years retiring in 1985. He and his sons run Street  Rod Body Shop in Marcelline. He and his wife ran Bryson’s Bar in  Marcelline for 9 years. \nPRIMARY STAGING DETAILS:  26 Apr 2017 \n\n\n\nPrimary Staging Time:  8:45 A.M.\n\nZehender Robinson Stormer Cookson Funeral Home\n1435 State St\n\nQuincy\, Illinois – \n\nhttps://www.google.com/maps/place/14…57\,17z/data=!3\n\n\n\n\nRide Captain:\n     Bruce Martin/w flag support (217) 629-7660\n\n\n\n\nSpecial Instructions:\n\nFlag line will be established immediately afterward. Line up per RC instructions. \nFollowing the funeral service the Patriot Guard will escort family and  friends to New Providence Cemetery (a distance of approximately 30  miles). Military rites will be accorded at the cemetery by Bear Creek  Post 823 American Legion\, and the Illinois National Guard Funeral  Honor’s Detail.\n\n\n\n\nFlags & Water:\n\nFlags Will Be Provided\n\nIf you have large bike flags\, please bring them.\n\nWater WILL NOT be provided\, please bring your own.\n\n\nSubmitted By:  Ian Chafee\nPosition:  Assistant State Captain \n[HR][/HR]\nNote:\nYou do not have to own/ride a motorcycle or be a Veteran to join and membership is Free. The only requirement is RESPECT! To join\, simply go to www.PatriotGuard.org and click on Register. Membership is Free. \nTo subscribe to receive mission notices\, log into the National Site and  click on the Mission Tab at the top. Select Upcoming Missions by State.  Scroll to the state(s) you would like to receive notices for and click  on the green check mark. Detailed instructions are also located in the  FAQs on the site by clicking on the Quick Links Tab and selecting FAQs.
URL:https://www.patriotguard.org/mission/charles-w-squirley-bryson-sr-veteran-usa-wwii/
END:VEVENT
END:VCALENDAR