BEGIN:VCALENDAR
VERSION:2.0
PRODID:-//Patriot Guard Riders - ECPv5.6.0//NONSGML v1.0//EN
CALSCALE:GREGORIAN
METHOD:PUBLISH
X-WR-CALNAME:Patriot Guard Riders
X-ORIGINAL-URL:https://www.patriotguard.org
X-WR-CALDESC:Events for Patriot Guard Riders
BEGIN:VTIMEZONE
TZID:America/New_York
BEGIN:DAYLIGHT
TZOFFSETFROM:-0500
TZOFFSETTO:-0400
TZNAME:EDT
DTSTART:20160313T070000
END:DAYLIGHT
BEGIN:STANDARD
TZOFFSETFROM:-0400
TZOFFSETTO:-0500
TZNAME:EST
DTSTART:20161106T060000
END:STANDARD
END:VTIMEZONE
BEGIN:VEVENT
DTSTART;TZID=America/New_York:20160813T090000
DTEND;TZID=America/New_York:20160813T110000
DTSTAMP:20210512T020114
CREATED:20160813T130000Z
LAST-MODIFIED:20191201T143716Z
UID:410022-1471078800-1471086000@www.patriotguard.org
SUMMARY:Charles W. Loney\, 63\, USAF
DESCRIPTION:The family and friends of Charles W. “Chuck” Loney  have invited the PGR to stand for him and to honor his service to our  country in time of war and peace. Chuck Loney admired the PGR and what  you stand for; now is time to show his loved ones that we are the ones  that admire those who are responsible for our freedom.\n\nChuck was born August 12\, 1952 at Ft. Benning\, Georgia and was a  proud veteran\, having served in the United State Air Force for 14 years  attaining the rank of SSgt/E-5 and receiving several awards\, including  the Good Conduct Medal (2nd award) and the National Defense Service  Medal. He served in Southeast Asia during the Vietnam War as an Air  Force Maintainer / Armament Systems Specialist. For his entire life he  was an avid motorcyclist and enjoyed painting artwork.\n\nThere will be a service with military honors held at Bullock  Funeral Home in Sumter\, SC on Saturday\, August 13\, 2016 at 4:00 pm. \n\nMISSION DETAILS:  SATURDAY\, August 13th\, 2016\n\nLOCATION: Bullock Funeral Home\, 1190 Wilson Hall Rd\, Sumter\, SC 29150\n\nMAP:  https://goo.gl/maps/MRQ5V4EesVB2\n\nSTAGING:  1500 (3:00 pm)\n\nBRIEFING:  1515 (3:15 pm)\n\nExecution:  Immediately after the briefing\, we will  establish the flag line as the family and friends arrive for the  service.  Upon the start of the service\, we will take a break and then  reform the flag line at the end of the service\, when the Air Force will  conduct honors outside in front of the funeral home.  Once honors have  been rendered\, we will break down the flag line and quietly depart.\n\nFlags and water will be provided.\n\nI am honored to stand as the RCIC of this mission:\n\nRon Kelly\, RCIT\nron.kelly83@yaoo.com\n(803) 532-8933\n\nAssisting:\nL.Z. Harrison\, Jr.\, SC\nlzharrison@aol.com\n(803) 360-3830
URL:https://www.patriotguard.org/mission/charles-w-loney-63-usaf/
CATEGORIES:Archive
END:VEVENT
END:VCALENDAR