BEGIN:VCALENDAR
VERSION:2.0
PRODID:-//Patriot Guard Riders - ECPv5.3.2.1//NONSGML v1.0//EN
CALSCALE:GREGORIAN
METHOD:PUBLISH
X-WR-CALNAME:Patriot Guard Riders
X-ORIGINAL-URL:https://www.patriotguard.org
X-WR-CALDESC:Events for Patriot Guard Riders
BEGIN:VTIMEZONE
TZID:America/New_York
BEGIN:DAYLIGHT
TZOFFSETFROM:-0500
TZOFFSETTO:-0400
TZNAME:EDT
DTSTART:20170312T070000
END:DAYLIGHT
BEGIN:STANDARD
TZOFFSETFROM:-0400
TZOFFSETTO:-0500
TZNAME:EST
DTSTART:20171105T060000
END:STANDARD
END:VTIMEZONE
BEGIN:VEVENT
DTSTART;TZID=America/New_York:20170411T131500
DTEND;TZID=America/New_York:20170411T151500
DTSTAMP:20210403T090123
CREATED:20170411T171500Z
LAST-MODIFIED:20191201T031740Z
UID:322844-1491916500-1491923700@www.patriotguard.org
SUMMARY:Charles W. Liechti\, Veteran\, USA - Vietnam
DESCRIPTION:Charles W. Liechti\, Veteran \nUSA  – Vietnam \nLeavenworth\, Kansas – 11 Apr 2017\n\n\n[HR][/HR] \n\n\nABOUT THE MISSION: \nWe will man a flag line to honor Mr. Liechti’s service on Tuesday\, 11  Apr 2017 at the Leavenworth National (VA) Cemetery. Private Liechti  served during Vietnam with the 1st Infantry Division (Big Red One).\nThis mission will be a flag line only at the Committal Shelter. There will not be an escort.\nDo not be early or late to the staging area. \nPRIMARY STAGING DETAILS:  11 Apr 2017\n \n\n\n\nPrimary Staging Time:  1:15 P.M.\n\nLeavenworth National (VA) Cemetery Office\n150 Muncie Rd.\n\nLeavenworth\, Kansas – 66048\n\n\n\n \n\nRide Captain:\n\nFloyd Hardin\nmacfloyd58@aol.com\n913-306-6642\n\n \n\nSpecial Instructions:\n\nBe on time to staging area. Please do not arrive early or late.\n\n \n\nFlags & Water:\n\nFlags Will Be Provided\n\nLarge Bike Flags will NOT be needed.\n\nWater WILL NOT be provided\, please bring your own.\n\n\nSubmitted By:  Bruce Holmes\nPosition:  Assistant State Captain\n\n[HR][/HR]\nNote:\nYou do not have to own/ride a motorcycle or be a Veteran to join and membership is Free. The only requirement is RESPECT! To join\, simply go to www.PatriotGuard.org and click on Register. Membership is Free. \nTo subscribe to receive mission notices\, log into the National Site and  click on the Mission Tab at the top. Select Upcoming Missions by State.  Scroll to the state(s) you would like to receive notices for and click  on the green check mark. Detailed instructions are also located in the  FAQs on the site by clicking on the Quick Links Tab and selecting FAQs.
URL:https://www.patriotguard.org/mission/charles-w-liechti-veteran-usa-vietnam/
END:VEVENT
END:VCALENDAR