BEGIN:VCALENDAR
VERSION:2.0
PRODID:-//Patriot Guard Riders - ECPv5.6.0//NONSGML v1.0//EN
CALSCALE:GREGORIAN
METHOD:PUBLISH
X-WR-CALNAME:Patriot Guard Riders
X-ORIGINAL-URL:https://www.patriotguard.org
X-WR-CALDESC:Events for Patriot Guard Riders
BEGIN:VTIMEZONE
TZID:America/New_York
BEGIN:DAYLIGHT
TZOFFSETFROM:-0500
TZOFFSETTO:-0400
TZNAME:EDT
DTSTART:20160313T070000
END:DAYLIGHT
BEGIN:STANDARD
TZOFFSETFROM:-0400
TZOFFSETTO:-0500
TZNAME:EST
DTSTART:20161106T060000
END:STANDARD
END:VTIMEZONE
BEGIN:VEVENT
DTSTART;TZID=America/New_York:20160730T090000
DTEND;TZID=America/New_York:20160730T110000
DTSTAMP:20210512T235741
CREATED:20160730T130000Z
LAST-MODIFIED:20191201T144034Z
UID:410325-1469869200-1469876400@www.patriotguard.org
SUMMARY:Charles Smith\, USAF\, Vietnam / Wichita Falls
DESCRIPTION:Patriot’s Name: Charles Smith\nMilitary Branch: United States Air Force\nClassification: Standing Honors\nLink To Obituary:\nhttp://obits.dignitymemorial.com/dignity-memorial/obituary.aspx?n=Charles-Smith&lc=4197pid=180735363&mid=7017663 \nMission Ride Captain: Barbara “BJ” Johnson\, brbjo@aol.com\, (940) 642-5324 \nMission Summary: Flag Line at Memorial Service only. \nPART 1:    Memorial Service\nMission Date: Jul 30\, 2016 – Saturday\nStaging Time: 10:00\nBriefing Time: 10:20\nIn Position Time Or KSU: 10:30\nService Start Time: 11:00 \nDetails Of Part 1: We have been invited by Mr. Smith’s widow\, Avonne\, to stand a flag line at the Memorial Service. \nCharles Edwin Smith spent 12 years in the Air Force. He served in Vietnam at Da Nang Air Base and also a tour in Thailand during the Vietnam war. He was a Security Policeman and was once stationed at Sheppard AFB. \nHe was a disabled Vietnam Veteran. His brother is a Patriot Guard Rider out of the San Antonio region and is also a life member of the combat Veterans Motorcycle Association Texas chapter 23-3. \nName Of Staging Point:\nHampton Vaughan Funeral Home\n1917 Archer City Highway\nWichita Falls\, Texas 76302
URL:https://www.patriotguard.org/mission/charles-smith-usaf-vietnam-wichita-falls/
CATEGORIES:Archive
END:VEVENT
END:VCALENDAR