BEGIN:VCALENDAR
VERSION:2.0
PRODID:-//Patriot Guard Riders - ECPv5.6.0//NONSGML v1.0//EN
CALSCALE:GREGORIAN
METHOD:PUBLISH
X-WR-CALNAME:Patriot Guard Riders
X-ORIGINAL-URL:https://www.patriotguard.org
X-WR-CALDESC:Events for Patriot Guard Riders
BEGIN:VTIMEZONE
TZID:America/New_York
BEGIN:DAYLIGHT
TZOFFSETFROM:-0500
TZOFFSETTO:-0400
TZNAME:EDT
DTSTART:20160313T070000
END:DAYLIGHT
BEGIN:STANDARD
TZOFFSETFROM:-0400
TZOFFSETTO:-0500
TZNAME:EST
DTSTART:20161106T060000
END:STANDARD
END:VTIMEZONE
BEGIN:VEVENT
DTSTART;TZID=America/New_York:20160714T090000
DTEND;TZID=America/New_York:20160714T110000
DTSTAMP:20210513T001754
CREATED:20160714T130000Z
LAST-MODIFIED:20191201T144336Z
UID:410607-1468486800-1468494000@www.patriotguard.org
SUMMARY:Charles Ray\, 74\, USAF\, Vietnam / Navarre
DESCRIPTION:CMSgt. Charles Ray\, 74\nUnited States Air Force\nPensacola\, Florida\nThursday 14\, July 2016\nVietnam Veteran\n\n\nThe family of CMSgt. Charles Ray invited the Patriot Guard to stand in honor and escort him to Barrancas National Cemetery for final Honors. Lewis Funeral Home 7794 Navarre Pkwy\, Navarre\, Florida is in charge of the arrangements. We will stage at McDonald’s 8644 Navarre\, Pkwy\, Navarre\, Fl. \nNOTE:  The Naval Air Station requires that we wear long sleeve shirts\, long trousers\, long fingered gloves\, DOT approved helmets\, leather footwear covering the ankles\, DOT approved helmets and appropriate eye wear. \nItinerary:\n0815 – Stage at McDonald’s 8644 Navarre Pkwy.\n0900 – Safety briefing\, all hands will attend\n0915 – KSU \n0930 – Arrive Lewis Funeral Home\n1000 – KSU for Barrancas w/LEO\n1100 –  Honors at Barrancas \nIf you have any questions please call the ride captain\nRay Doyle\n[URL=”tel:850-902-0123″]850-902-0123[/URL]\nray.doyle@cox.net
URL:https://www.patriotguard.org/mission/charles-ray-74-usaf-vietnam-navarre/
CATEGORIES:Archive
END:VEVENT
END:VCALENDAR