BEGIN:VCALENDAR
VERSION:2.0
PRODID:-//Patriot Guard Riders - ECPv5.6.0//NONSGML v1.0//EN
CALSCALE:GREGORIAN
METHOD:PUBLISH
X-WR-CALNAME:Patriot Guard Riders
X-ORIGINAL-URL:https://www.patriotguard.org
X-WR-CALDESC:Events for Patriot Guard Riders
BEGIN:VTIMEZONE
TZID:America/New_York
BEGIN:DAYLIGHT
TZOFFSETFROM:-0500
TZOFFSETTO:-0400
TZNAME:EDT
DTSTART:20160313T070000
END:DAYLIGHT
BEGIN:STANDARD
TZOFFSETFROM:-0400
TZOFFSETTO:-0500
TZNAME:EST
DTSTART:20161106T060000
END:STANDARD
END:VTIMEZONE
BEGIN:VEVENT
DTSTART;TZID=America/New_York:20160624T090000
DTEND;TZID=America/New_York:20160624T110000
DTSTAMP:20210513T173903
CREATED:20160624T130000Z
LAST-MODIFIED:20191201T144825Z
UID:411046-1466758800-1466766000@www.patriotguard.org
SUMMARY:Charles Olsen
DESCRIPTION:The family of Charles “Charlie” Olsen has requested the Patriot Guard Riders to stand in honor of their loved One \nCharlie served in the US Air Force. \nService is Friday June 24th at 9 am (0900 hrs) at Vansant & Mills Funeral  Home 314 W. Jefferson  Street Clinton\, Mo .  Interment with escort to follow immediately after at Maplewood Cemetery 902 SE Hwy BB Brownington\, near Clinton\, Mo \nStage for briefing at 8 am (0800 hrs) at the funeral home \nActing RC: Ben Brown\n+1 (660) 238-2275
URL:https://www.patriotguard.org/mission/charles-olsen/
CATEGORIES:Archive
END:VEVENT
END:VCALENDAR