BEGIN:VCALENDAR
VERSION:2.0
PRODID:-//Patriot Guard Riders - ECPv5.3.2.1//NONSGML v1.0//EN
CALSCALE:GREGORIAN
METHOD:PUBLISH
X-WR-CALNAME:Patriot Guard Riders
X-ORIGINAL-URL:https://www.patriotguard.org
X-WR-CALDESC:Events for Patriot Guard Riders
BEGIN:VTIMEZONE
TZID:America/New_York
BEGIN:DAYLIGHT
TZOFFSETFROM:-0500
TZOFFSETTO:-0400
TZNAME:EDT
DTSTART:20190310T070000
END:DAYLIGHT
BEGIN:STANDARD
TZOFFSETFROM:-0400
TZOFFSETTO:-0500
TZNAME:EST
DTSTART:20191103T060000
END:STANDARD
END:VTIMEZONE
BEGIN:VEVENT
DTSTART;VALUE=DATE:20190703
DTEND;VALUE=DATE:20190704
DTSTAMP:20210404T061908
CREATED:20190702T103059Z
LAST-MODIFIED:20190702T103059Z
UID:166410-1562112000-1562198399@www.patriotguard.org
SUMMARY:Charles May
DESCRIPTION:Honor Mission\nCharles May\, Veteran\nUSA\, ARNG\nSt Charles\, Missouri – 07-03-19\n\n\n\n\nABOUT THE MISSION: \nThe family of Charles E. May has requested the Patriot Guard to stand a flag line during his visitation and then render honors with the military honors team. Sgt. May was a veteran of the United States Army and the Michigan National Guard. We are honored to stand for him as he once stood for us.\n\n\nPRIMARY STAGING DETAILS: 07-03-19 \nStaging Time: 11:00 a.m.  \nBaue Funeral Home (Cave Springs)\n3950 West Clay\nSt Charles\, Missouri 63301\n\n\nRide Captain: \nNeil “Nitehawk” Hill\, nitehawk.pgr@gmail.com\, 314-808-2568\n\n\nSpecial Instructions: \nRequested to only provide a small team of patriots for this mission. I will contact those that will be in attendance individually. If you are not personally contacted\, please do not attend.\nSafety meeting to follow staging.  A flag line to follow until the 12 pm service.\nNo escort.\nHonors provided at the chapel following the memorial service.\nFlags and support… Harold “Chief Boo” Vanderboegh\n\n\nFlags & Water:\nFlags will be provided\nLarge Bike Flags will NOT be needed.\nWater will be provided.\n\n\nSubmitted By: Neil Hill \nPosition: Missouri Ride Captain \n\nNote: You do not have to own/ride a motorcycle or be a veteran to join\, and membership is Free. The only requirement is RESPECT! To subscribe to receive mission notices\, log into the National Site and click on the Members tab at the top. Select the Subscribe to PGR Missions option.\n Print This Page
URL:https://www.patriotguard.org/mission/charles-may/
CATEGORIES:Honor Mission
END:VEVENT
END:VCALENDAR