BEGIN:VCALENDAR
VERSION:2.0
PRODID:-//Patriot Guard Riders - ECPv5.3.2.1//NONSGML v1.0//EN
CALSCALE:GREGORIAN
METHOD:PUBLISH
X-WR-CALNAME:Patriot Guard Riders
X-ORIGINAL-URL:https://www.patriotguard.org
X-WR-CALDESC:Events for Patriot Guard Riders
BEGIN:VTIMEZONE
TZID:America/New_York
BEGIN:DAYLIGHT
TZOFFSETFROM:-0500
TZOFFSETTO:-0400
TZNAME:EDT
DTSTART:20190310T070000
END:DAYLIGHT
BEGIN:STANDARD
TZOFFSETFROM:-0400
TZOFFSETTO:-0500
TZNAME:EST
DTSTART:20191103T060000
END:STANDARD
END:VTIMEZONE
BEGIN:VEVENT
DTSTART;VALUE=DATE:20190818
DTEND;VALUE=DATE:20190819
DTSTAMP:20210402T135130
CREATED:20190816T203103Z
LAST-MODIFIED:20190816T203103Z
UID:171088-1566086400-1566172799@www.patriotguard.org
SUMMARY:Charles Manley
DESCRIPTION:Honor Mission\nCharles Manley\nUSA – WWII\, Vietnam\nTumwater\, Washington – 08-18-19\n\n\n\nABOUT THE MISSION: \nLadies and Gentlemen of the Patriot Guard Riders\, we have been invited by the family of Sgt. Charles Manley\, US Army retired\, to stand a flag line and welcome guests to Sgt. Manley’s memorial service. Our hero lied about his age and joined the Army at 16 and was sent to France to drive a truck. After about a year he was asked his age and slipped up and said 17 and then said well you caught me\, I guess you’ll be sending me home. He was told no son; Uncle Sam has too much invested in you now. When Charles re-upped he applied for and was accepted to Special Forces where\, after training he was sent to Vietnam. Unfortunately that was about all his widow could tell me about his Army career. Charles had a passion for aeronautics and his memorial will be at the Flight Museum\, of which he was a 20 year member. Let’s stand with family and friends in honor of this American Hero.\n\n\nPRIMARY STAGING DETAILS: 08-18-19 \nStaging Time: 11:00 AM\n \nShell Station\n7219 Old Hwy 99 SE\nTumwater\, Washington 98501\n\n\nRide Captain: \nBryan Drum\n253-778-9917\nbdrum59@yahoo.com\n\nRide Capt in Training – TBD\nSupport Vehicle – Veronica “Vee” Port\, 206-497-8796\, veronicaport@hotmail.com\n\n\nSpecial Instructions: \n11:00 – RC\, RCiT & SV arrive\n11:15 – Members arrive\n12:00 – Mission Briefing\n12:15 – KSU\n12:20 – Establish Flag Line\n2:00 – Dismiss and Debrief\nOlympia weather is forecast for partly cloudy and mid 70’s.\nThis will be a long flag line\, please plan (& dress) accordingly\, & stay hydrated.\n\n\nFlags & Water:\nFlags will be provided\nLarge Bike Flags will NOT be needed.\nWater will be provided.\n\n\n\nSubmitted By: Sabrina Brown \nPosition: Washington State Captain \n\nNote: You do not have to own/ride a motorcycle or be a veteran to join\, and membership is Free. The only requirement is RESPECT! To subscribe to receive mission notices\, log into the National Site and click on the Members tab at the top. Select the Subscribe to PGR Missions option.\n Print This Page
URL:https://www.patriotguard.org/mission/charles-manley/
CATEGORIES:Honor Mission
END:VEVENT
END:VCALENDAR