BEGIN:VCALENDAR
VERSION:2.0
PRODID:-//Patriot Guard Riders - ECPv5.3.2.1//NONSGML v1.0//EN
CALSCALE:GREGORIAN
METHOD:PUBLISH
X-WR-CALNAME:Patriot Guard Riders
X-ORIGINAL-URL:https://www.patriotguard.org
X-WR-CALDESC:Events for Patriot Guard Riders
BEGIN:VTIMEZONE
TZID:America/New_York
BEGIN:DAYLIGHT
TZOFFSETFROM:-0500
TZOFFSETTO:-0400
TZNAME:EDT
DTSTART:20190310T070000
END:DAYLIGHT
BEGIN:STANDARD
TZOFFSETFROM:-0400
TZOFFSETTO:-0500
TZNAME:EST
DTSTART:20191103T060000
END:STANDARD
END:VTIMEZONE
BEGIN:VEVENT
DTSTART;VALUE=DATE:20190529
DTEND;VALUE=DATE:20190530
DTSTAMP:20210405T005909
CREATED:20190528T174912Z
LAST-MODIFIED:20190528T175034Z
UID:162654-1559088000-1559174399@www.patriotguard.org
SUMMARY:Charles M. McKnight Sr.
DESCRIPTION:Honor Mission\nCharles M. McKnight Sr.\, Veteran\nUSA\, USNR\nChambersburg\, Pennsylvania – 05-29-19\n\n\n\nABOUT THE MISSION: \nCharles served honorably in the US Army\, for two years. He also served as a Navy reservist for four years. He was a Life Member of the Fayetteville Fire Company and the Franklin Fire Company. Sonny was also a member of the American Legion Post 46\, the Marine Corps League\, AMVETS Post 224\, VFW Post 1599\, and the Moose Lodge 842\, all in Chambersburg\, PA. Following the service\, we will then escort William to his final rest where we will stand in Honor of his service to this Nation.\n\n\nPRIMARY STAGING DETAILS: 05-29-19 \nStaging Time: 10:30  \nThomas L. Geisel Funeral Home\nChambersburg\, Pennsylvania 17202\nhttps://goo.gl/maps/hE4J2khMmwBEZFQd7\n\n\nRide Captain: \nTBD\n\n\nSpecial Instructions: \nPlease bring 3×5 flags\n\n\nFlags & Water:\nFlags will not be provided\nLarge Bike Flags will NOT be needed.\nWater WILL NOT be provided\, please bring your own.\n\n\nSubmitted By: Eric Cramer \nPosition: Pennsylvania Ride Captain \n\nNote: You do not have to own/ride a motorcycle or be a veteran to join\, and membership is Free. The only requirement is RESPECT! To subscribe to receive mission notices\, log into the National Site and click on the Members tab at the top. Select the Subscribe to PGR Missions option.\n Print This Page
URL:https://www.patriotguard.org/mission/charles-m-mcknight-sr/
CATEGORIES:Honor Mission
END:VEVENT
END:VCALENDAR