BEGIN:VCALENDAR
VERSION:2.0
PRODID:-//Patriot Guard Riders - ECPv5.3.2.1//NONSGML v1.0//EN
CALSCALE:GREGORIAN
METHOD:PUBLISH
X-WR-CALNAME:Patriot Guard Riders
X-ORIGINAL-URL:https://www.patriotguard.org
X-WR-CALDESC:Events for Patriot Guard Riders
BEGIN:VTIMEZONE
TZID:America/New_York
BEGIN:DAYLIGHT
TZOFFSETFROM:-0500
TZOFFSETTO:-0400
TZNAME:EDT
DTSTART:20170312T070000
END:DAYLIGHT
BEGIN:STANDARD
TZOFFSETFROM:-0400
TZOFFSETTO:-0500
TZNAME:EST
DTSTART:20171105T060000
END:STANDARD
END:VTIMEZONE
BEGIN:VEVENT
DTSTART;TZID=America/New_York:20170318T150000
DTEND;TZID=America/New_York:20170318T170000
DTSTAMP:20210401T203658
CREATED:20170318T190000Z
LAST-MODIFIED:20191201T034853Z
UID:344872-1489849200-1489856400@www.patriotguard.org
SUMMARY:Charles M. Lawson\, Veteran\, USA - WWII
DESCRIPTION:Charles M. Lawson\, Veteran\nUSA  – WWII\nMaryville\, Tennessee – 18 Mar 2017\n\n\n[HR][/HR] \n\n\nABOUT THE MISSION: \nSFC Charles M. Lawson Jr.\, age 95 of Maryville passed away Monday\, March   13\,2017. Mr. Lawson served our country in the U.S. Army during WWII.  He  participated in the D-Day Campaign and the Battle of the Bulge where  he  was wounded and received a Purple Heart.\nHis family has asked that we help pay tribute to their hero and it will be our honor to do so.\nVISITATION:\nSaturday\, March 18\,2017\n1300-1400\nFuneral immediately afterward.\n(NO ESCORT)\nInterment to follow at:\nSherwood Memorial Gardens\n3176 Airport Hwy\nAlcoa\, TN \nPRIMARY STAGING DETAILS:  18 Mar 2017 \n\n\n\nPrimary Staging Time:  1200 P.M.\n\nDirectly at McCammon-Ammons-Click Funeral Home\n220 W.Broadway Ave.\n\nMaryville\, Tennessee – 37801\n\n\n\n\n\nRide Captain:\n\n Larry Hale\,\nCell: 865-414-8956 \nKen Roberts\nCell:865-296-4027\n\n\n\nSpecial Instructions:\n\nStage directly at 12 Noon at the funeral home.\nMcammon-Ammons-Click Funeral Home\n220 W. Broadway Ave.\nMaryville\, TN \nFlag Line only for the graveside service; military honors.\n\n\n\nFlags & Water:\n\nFlags Will Be Provided\n\nLarge Bike Flags will NOT be needed.\n\nWater will be provided.\n\n\n\nSubmitted By:  Thonda Farmer\nPosition:  Assistant State Captain \n[HR][/HR]\nNote:\nYou do not have to own/ride a motorcycle or be a Veteran to join and membership is Free. The only requirement is RESPECT! To join\, simply go to Patriot Guard website and click on Register. Membership is Free. \nTo subscribe to receive mission notices\, log into the National Site and   click on the Mission Tab at the top. Select Upcoming Missions by State.   Scroll to the state(s) you would like to receive notices for and click   on the green check mark. Detailed instructions are also located in the   FAQs on the site by clicking on the Quick Links Tab and selecting  FAQs.
URL:https://www.patriotguard.org/mission/charles-m-lawson-veteran-usa-wwii/
END:VEVENT
END:VCALENDAR