BEGIN:VCALENDAR
VERSION:2.0
PRODID:-//Patriot Guard Riders - ECPv5.3.2.1//NONSGML v1.0//EN
CALSCALE:GREGORIAN
METHOD:PUBLISH
X-WR-CALNAME:Patriot Guard Riders
X-ORIGINAL-URL:https://www.patriotguard.org
X-WR-CALDESC:Events for Patriot Guard Riders
BEGIN:VTIMEZONE
TZID:America/New_York
BEGIN:DAYLIGHT
TZOFFSETFROM:-0500
TZOFFSETTO:-0400
TZNAME:EDT
DTSTART:20190310T070000
END:DAYLIGHT
BEGIN:STANDARD
TZOFFSETFROM:-0400
TZOFFSETTO:-0500
TZNAME:EST
DTSTART:20191103T060000
END:STANDARD
END:VTIMEZONE
BEGIN:VEVENT
DTSTART;VALUE=DATE:20190726
DTEND;VALUE=DATE:20190728
DTSTAMP:20210404T050421
CREATED:20190726T030804Z
LAST-MODIFIED:20190726T030804Z
UID:168685-1564099200-1564271999@www.patriotguard.org
SUMMARY:Charles M. Hergert
DESCRIPTION:Honor Mission\nCharles M. Hergert\, Retired\nUSN – Vietnam\nMULTI-CITY\, Missouri – 07-26-19\n\n\n\nABOUT THE MISSION: \nThe Family of Charles M. Hergert\, 73\, of Cairo\, MO.\, has requested the Patriot Guard Riders to stand in honor and to escort their loved one to his final resting place. Charles was a Navy Seabee and wore his hat everywhere he went. He proudly served two tours in Vietnam with the Construction Battalion\, two years and five months\, prior to receiving his honorable discharge.\n\n\nPRIMARY STAGING DETAILS: 07-26-19 \nStaging Time: 3:30 PM\n \nCater Funeral Home\n1520 E. Rollins Street\nMoberly\, Missouri 65270\n\n\nRide Captain: \nJan Watts\n660-349-9134\nliltyke.2355@gmail.com\n\n\nSpecial Instructions: \nVisitation will be from 4:00 PM to 6:00 PM. Come and go as you can.\n\n\nFlags & Water:\nFlags will be provided\nIf you have large bike flags\, please bring them.\nWater will be provided.\n\nSTAGING #2 DETAILS: 07-27-19 \nStaging Time: 09:15 AM\n \nCarpenter Street Baptist Church\n501 E. Carpenter Street\nMoberly\, Missouri 65270\n\n\nRide Captain: \nJan Watts\n660-349-9134\nliltyke.2355@gmail.com\n\n\nSpecial Instructions: \nFlag line set prior to service.\nService begins at 10:00 AM.\nAfter service\, we have been invited for lunch.\nAfter lunch\, an 80+ mile escort (one way) to Mt. Zion Cemetery in Green City\, MO\, for a 3:00 PM committal with Full Military Honors. There will be time to get refueled in Moberly before escort departs.\n\n\nFlags & Water:\nFlags will be provided\nIf you have large bike flags\, please bring them.\nWater will be provided.\n\n\n\nSubmitted By: Jan Watts \nPosition: Missouri Ride Captain \n\nNote: You do not have to own/ride a motorcycle or be a veteran to join\, and membership is Free. The only requirement is RESPECT! To subscribe to receive mission notices\, log into the National Site and click on the Members tab at the top. Select the Subscribe to PGR Missions option.\n Print This Page
URL:https://www.patriotguard.org/mission/charles-m-hergert/
CATEGORIES:Honor Mission
END:VEVENT
END:VCALENDAR