BEGIN:VCALENDAR
VERSION:2.0
PRODID:-//Patriot Guard Riders - ECPv5.3.2.1//NONSGML v1.0//EN
CALSCALE:GREGORIAN
METHOD:PUBLISH
X-WR-CALNAME:Patriot Guard Riders
X-ORIGINAL-URL:https://www.patriotguard.org
X-WR-CALDESC:Events for Patriot Guard Riders
BEGIN:VTIMEZONE
TZID:America/New_York
BEGIN:DAYLIGHT
TZOFFSETFROM:-0500
TZOFFSETTO:-0400
TZNAME:EDT
DTSTART:20190310T070000
END:DAYLIGHT
BEGIN:STANDARD
TZOFFSETFROM:-0400
TZOFFSETTO:-0500
TZNAME:EST
DTSTART:20191103T060000
END:STANDARD
END:VTIMEZONE
BEGIN:VEVENT
DTSTART;VALUE=DATE:20190323
DTEND;VALUE=DATE:20190324
DTSTAMP:20210403T010359
CREATED:20190322T204939Z
LAST-MODIFIED:20190322T204939Z
UID:154467-1553299200-1553385599@www.patriotguard.org
SUMMARY:Charles M. Dahlin
DESCRIPTION:Honor Mission\nCharles M. Dahlin \, Veteran\nUSA – \, Vietnam\nPhoenix\, Arizona – 03-23-19\n\n\n\n\nABOUT THE MISSION: \nCharlie was a United States Army veteran. He proudly served his country in the US Army from 1965 to 1967. Charlie served with Battery B\, 5th Battalion\, 16th Artillery supporting the 4th Infantry Division in Vietnam. He was released from active duty and honorably discharged in September\, 1967.While in the service of his country Charlie earned the National Defense Service Medal\, Vietnam Service Medal\, Vietnam Campaign Medal\, Sharpshooter Badge (M-14 rifle) and the Overseas Service Bar.\n\n\nPRIMARY STAGING DETAILS: 03-23-19 \nStaging Time: 8:00 AM  \nResthaven Memorial Gardens\n4310 E Southern Avenue\nPhoenix\, Arizona 85042\n\n\nRide Captain: \nMike “Sully” Sullivan\, 602-751-1694\, sullyazpgr@cox.net\n\n\n\nSpecial Instructions: \nCircle of Honor/Briefing Time: 8:30 AM Flag line Set: 8:50 AM Military Honors: 9:00 AM  Flag Captain: Gary Ogle\n\nFlags & Water:\nFlags will be provided\nLarge Bike Flags will NOT be needed.\nWater will be provided.\n\n\n\nSubmitted By: Mike Sullivan \nPosition: Arizona Assistant State Captain \n\nNote: You do not have to own/ride a motorcycle or be a veteran to join\, and membership is Free. The only requirement is RESPECT! To subscribe to receive mission notices\, log into the National Site and click on the Members tab at the top. Select the Subscribe to PGR Missions option.\n Print This Page
URL:https://www.patriotguard.org/mission/charles-m-dahlin/
CATEGORIES:Honor Mission
END:VEVENT
END:VCALENDAR