BEGIN:VCALENDAR
VERSION:2.0
PRODID:-//Patriot Guard Riders - ECPv5.6.0//NONSGML v1.0//EN
CALSCALE:GREGORIAN
METHOD:PUBLISH
X-WR-CALNAME:Patriot Guard Riders
X-ORIGINAL-URL:https://www.patriotguard.org
X-WR-CALDESC:Events for Patriot Guard Riders
BEGIN:VTIMEZONE
TZID:America/New_York
BEGIN:DAYLIGHT
TZOFFSETFROM:-0500
TZOFFSETTO:-0400
TZNAME:EDT
DTSTART:20160313T070000
END:DAYLIGHT
BEGIN:STANDARD
TZOFFSETFROM:-0400
TZOFFSETTO:-0500
TZNAME:EST
DTSTART:20161106T060000
END:STANDARD
END:VTIMEZONE
BEGIN:VEVENT
DTSTART;TZID=America/New_York:20160802T090000
DTEND;TZID=America/New_York:20160802T110000
DTSTAMP:20210512T051845
CREATED:20160802T130000Z
LAST-MODIFIED:20191201T143913Z
UID:410202-1470128400-1470135600@www.patriotguard.org
SUMMARY:Charles L Cash\, USMC
DESCRIPTION:[URL=”imap://Mods-2%40PatriotGuard%2Eorg@svcs.patriotguard.org:993/fetch%3EUID%3E.INBOX%3E63480″]Charles L Cash[/URL]\n\n\n\nU.S. Marine Corps\n\n\nThe Patriot Guard Riders have been requested to stand a flag line for Charles L Cash. \nCharles L Cash served in the U.S. Marine Corps during the Korean War. \nThis will be a Veterans format. The service will be at the LDS  Church on 3084 S 8400 W in Magna at 11:00 AM on Tuesday\, August 2\, 2016. We will stand a flag line at the church and then escort Charles L Cash to his final resting place in the Larkin Sunset Gardens Cemetery on 1950 Dimple Dell Rd in Sandy\, where we will stand another flag line. \nThe ride captain for this mission will be Dave Richardson and he can be reached at: 801-641-6009. \nStaging: 11:00 AM at Chevron Gas Station\, 8405 2810 S\, Magna.\nKSU: 11:30 AM \nWeather: Mostly sunny with a high of 99. Please dress accordingly and keep yourself hydrated. \nAnyone attending in a cage and willing to transport flags please contact Dave Richardson at: 801-641-6009.
URL:https://www.patriotguard.org/mission/charles-l-cash-usmc/
CATEGORIES:Archive
END:VEVENT
END:VCALENDAR