BEGIN:VCALENDAR
VERSION:2.0
PRODID:-//Patriot Guard Riders - ECPv5.3.2.1//NONSGML v1.0//EN
CALSCALE:GREGORIAN
METHOD:PUBLISH
X-WR-CALNAME:Patriot Guard Riders
X-ORIGINAL-URL:https://www.patriotguard.org
X-WR-CALDESC:Events for Patriot Guard Riders
BEGIN:VTIMEZONE
TZID:America/New_York
BEGIN:DAYLIGHT
TZOFFSETFROM:-0500
TZOFFSETTO:-0400
TZNAME:EDT
DTSTART:20190310T070000
END:DAYLIGHT
BEGIN:STANDARD
TZOFFSETFROM:-0400
TZOFFSETTO:-0500
TZNAME:EST
DTSTART:20191103T060000
END:STANDARD
END:VTIMEZONE
BEGIN:VEVENT
DTSTART;VALUE=DATE:20190906
DTEND;VALUE=DATE:20190907
DTSTAMP:20210401T111302
CREATED:20190903T000925Z
LAST-MODIFIED:20190903T000925Z
UID:172326-1567728000-1567814399@www.patriotguard.org
SUMMARY:Charles Julius Stockhausen Jr.
DESCRIPTION:Honor Mission\nCharles Julius Stockhausen Jr.\, Veteran\nUSMC – WWII\, Korea\nSunset Hills\, Missouri – 09-06-19\n\n\n\nABOUT THE MISSION: \nIt is a most distinct honor and a privilege for the Patriot Guard Riders\, at the family’s request\, to stand a flag line for United States Marine Corps Veteran Charles J. Stockhausen\, 94\, and escort him to his final resting place at St. Lucas Cemetery with full Military Honors. Veteran Stockhausen served two tours in the USMC. He enlisted September 1943 for the duration of WWII in the Pacific Theater at Iwo Jima and Volcano Island. He enlisted again from June 1947 until July 1951 with overseas service in Inchon\, Seoul and the Chosin Reservoir in Korea. Veteran Stockhausen attained the rank of Sergeant and was a Carbine Marksman\, bayonet qualified\, in “A” Company\, 3rd Infantry Battalion. Commendations received included the Good Conduct Medal\, Combat Action Ribbon\, the Navy Presidential Unit Citation\, the Navy Unit Commendation Ribbon\, the Korean Service Medal\, the United States Korean Service Medal and the Republic of South Korea War Service Medal. SGT Stockhausen\, a grateful nation thanks you and is indebted to you for your honorable service. Your sacrifices have granted us the freedoms we continue to enjoy to this very day. Thank you and Godspeed.\n\n\nPRIMARY STAGING DETAILS: 09-06-19 \nStaging Time: 09:45 AM\n \nSt. Lucas United Church of Christ\n11735 Denny Road (I-270\, exit 3 MO-30/Gravois east\, Lindbergh Blvd. north/left\, Denny Road east/right)\nSunset Hills\, Missouri 63126\n\n\nRide Captain: \nDan “Lt. Dan” Doerer\n(314) 576-5856\nj_d_doerer@att.net\n\nFlags & Mission Support: Mike “Jenky” Jenkins\n\n\nSpecial Instructions: \nRED Shirt Friday. Assemble on the east side of the Church.\nArrive quietly\, visitation will be beginning at 10:00 AM\n09:45 AM: Stage\, followed by Ride Meeting\n10:00 AM: Flag Line\n11:00 AM: Service\n11:45 AM: Escort to St. Lucas Cemetery (on Church grounds).\n11:00 AM: Committal Service with Military Honors and interment.\nThe current NWS LONG range forecast during this mission is dry and hot\, but check the weather on the day of the mission. Travel and dress accordingly. HYDRATE! Any type of vehicle is welcome.\n\n\nFlags & Water:\nFlags will be provided\nIf you have large bike flags\, please bring them.\nWater will be provided.\n\n\n\nSubmitted By: Dan Doerer \nPosition: Missouri Ride Captain \n\nNote: You do not have to own/ride a motorcycle or be a veteran to join\, and membership is Free. The only requirement is RESPECT! To subscribe to receive mission notices\, log into the National Site and click on the Members tab at the top. Select the Subscribe to PGR Missions option.\n Print This Page
URL:https://www.patriotguard.org/mission/charles-julius-stockhausen-jr/
CATEGORIES:Honor Mission
END:VEVENT
END:VCALENDAR