BEGIN:VCALENDAR
VERSION:2.0
PRODID:-//Patriot Guard Riders - ECPv5.6.0//NONSGML v1.0//EN
CALSCALE:GREGORIAN
METHOD:PUBLISH
X-WR-CALNAME:Patriot Guard Riders
X-ORIGINAL-URL:https://www.patriotguard.org
X-WR-CALDESC:Events for Patriot Guard Riders
BEGIN:VTIMEZONE
TZID:America/New_York
BEGIN:DAYLIGHT
TZOFFSETFROM:-0500
TZOFFSETTO:-0400
TZNAME:EDT
DTSTART:20160313T070000
END:DAYLIGHT
BEGIN:STANDARD
TZOFFSETFROM:-0400
TZOFFSETTO:-0500
TZNAME:EST
DTSTART:20161106T060000
END:STANDARD
END:VTIMEZONE
BEGIN:VEVENT
DTSTART;TZID=America/New_York:20160616T090000
DTEND;TZID=America/New_York:20160616T110000
DTSTAMP:20210513T141114
CREATED:20160616T130000Z
LAST-MODIFIED:20191201T145137Z
UID:411337-1466067600-1466074800@www.patriotguard.org
SUMMARY:Charles Joseph Pate\, 70
DESCRIPTION:CONFIRMED MISSION\nSgt. Charles Joseph Pate\, USMC\, 70\nMountain Home\, AR  16 June 2016\n\n \nThe family of Charles Joseph Pate\, Sgt. USMC\, has invited the Patriot Guard Riders to join them in honor and remembrance of their loved one at a graveside service.  Sgt. Pate  served his country honorably during the Viet Nam Conflict from 1965 to 1969 earning the National Defense Service medal and Marksman medal among others.  \n \nhttp://www.kirbyandfamily.com/obituaries/Charles-Chuck-Pate/\n \nSTAGING: –1:15 p.m. Kirby Tucker Cemetery\, approximately 2 mi. east of Hwy 126\, and less than a mile north of Hwy. 412/62.  A flag will be posted at the turn-off on 126 and at the turn-off from Hwy 62/412.\n \nSERVICE: This will be a graveside service-No escort.  Service is to begin at 2:00 p.m.\, we will form a flag line at the graveside\, beginning at 1:30 p.m.  \n \nWEATHER:  Forecast to be sunny\, 93 deg. Dress accordingly.  Water will be provided. \n \n\n—\nJay Lanning\n(870) 421-4627
URL:https://www.patriotguard.org/mission/charles-joseph-pate-70/
CATEGORIES:Archive
END:VEVENT
END:VCALENDAR