BEGIN:VCALENDAR
VERSION:2.0
PRODID:-//Patriot Guard Riders - ECPv5.6.0//NONSGML v1.0//EN
CALSCALE:GREGORIAN
METHOD:PUBLISH
X-WR-CALNAME:Patriot Guard Riders
X-ORIGINAL-URL:https://www.patriotguard.org
X-WR-CALDESC:Events for Patriot Guard Riders
BEGIN:VTIMEZONE
TZID:America/New_York
BEGIN:DAYLIGHT
TZOFFSETFROM:-0500
TZOFFSETTO:-0400
TZNAME:EDT
DTSTART:20160313T070000
END:DAYLIGHT
BEGIN:STANDARD
TZOFFSETFROM:-0400
TZOFFSETTO:-0500
TZNAME:EST
DTSTART:20161106T060000
END:STANDARD
END:VTIMEZONE
BEGIN:VEVENT
DTSTART;TZID=America/New_York:20160817T090000
DTEND;TZID=America/New_York:20160817T110000
DTSTAMP:20210512T031641
CREATED:20160817T130000Z
LAST-MODIFIED:20191201T143542Z
UID:409876-1471424400-1471431600@www.patriotguard.org
SUMMARY:Charles Ickes III\, USMC
DESCRIPTION:Cpl Charles Ickes III\nUS Marine Corps\n17 August 2016\nJohnstown\, PA\n\n\n\nThe Patriot Guard Riders have been invited by the family of Cpl Charles III\, US Marine Corps to Stand in Silent Honor and Escort their American Hero. \n25 Feb 1993 – 13 Aug 16 \nCharles Ickes III was a Marine Corps Corporal who served a tour in Afghanistan. Charlie had an infectious smile and humor that brought joy to his family and friends. \nWednesday\,17 2016 \nStaging: 8:15 AM \nOakland United Methodist Church\n1504 Bedford St\nJohnstown\, PA\nhttps://goo.gl/maps/Tsnz6p4HSNK2 \nBriefing: 8:30 PM \nFlag Line: 8:45 AM \nFamily Will Arrive at 9:00AM \nVisitation is from 10:00AM- 11:00AM \nService Immediately Following. \nEscort Following Service To:\nRichland Cemetery\n1257 Scalp Ave\nJohnstown\, PA\nhttps://goo.gl/maps/H9AjtN9raL82 \nDress Accordingly. Please Bring Your 3×5 Flags. HYDRATE \nRide Captain:\nSRC Timothy  “Timmaye” Smith\n(402) 218-6693\ntimothy.smithusaf@gmail.com \nAssisting Ride Captain:\nMarcella Sorensen\n(402) 290-9589\npgrpa.vetrep.west@gmail.com
URL:https://www.patriotguard.org/mission/charles-ickes-iii-usmc/
CATEGORIES:Archive
END:VEVENT
END:VCALENDAR