BEGIN:VCALENDAR
VERSION:2.0
PRODID:-//Patriot Guard Riders - ECPv5.3.2.1//NONSGML v1.0//EN
CALSCALE:GREGORIAN
METHOD:PUBLISH
X-WR-CALNAME:Patriot Guard Riders
X-ORIGINAL-URL:https://www.patriotguard.org
X-WR-CALDESC:Events for Patriot Guard Riders
BEGIN:VTIMEZONE
TZID:America/New_York
BEGIN:DAYLIGHT
TZOFFSETFROM:-0500
TZOFFSETTO:-0400
TZNAME:EDT
DTSTART:20190310T070000
END:DAYLIGHT
BEGIN:STANDARD
TZOFFSETFROM:-0400
TZOFFSETTO:-0500
TZNAME:EST
DTSTART:20191103T060000
END:STANDARD
END:VTIMEZONE
BEGIN:VEVENT
DTSTART;VALUE=DATE:20190912
DTEND;VALUE=DATE:20190913
DTSTAMP:20210401T125656
CREATED:20190911T235626Z
LAST-MODIFIED:20190911T235626Z
UID:173574-1568246400-1568332799@www.patriotguard.org
SUMMARY:Charles Hulen Arnold
DESCRIPTION:Honor Mission\nCharles Hulen Arnold\, Veteran\nUSMC – WWII\nMULTI-CITY\, Texas – 09-12-19\n\n\n\nABOUT THE MISSION: \nFuneral Service & Procession\, Interment Service.\n\n\nPRIMARY STAGING DETAILS: 09-12-19 \nStaging Time: 12:00 PM\n \nMidlothian Funeral Home\n200 E Ave East\nMidlothian\, Texas 76065\n\n\nRide Captain: \nTom Hardin\ntom.hardin27@hotmail.com\n(469) 387-1512\n\nAsst: Rick Crabb\, randjcrabb@juno.com\, (910) 330-9861\n\n\nSpecial Instructions: \nStarting Time: 12:20pm\nRiders will stage at Midlothian Funeral Home to be briefed and to stand tall and silent as family and friends arrive. After the service begins\, flags will be returned to the flag support vehicle\, which will depart for the cemetery to set flags along with riders who will not be riding in the procession. Procession riders will then receive a safety briefing and stage for the procession to the cemetery.\n\n\nFlags & Water:\nFlags will be provided\nIf you have large bike flags\, please bring them.\nWater will be provided.\n\nSTAGING #2 DETAILS: 09-12-19 \nStaging Time: 1:45 PM\n \nLaurel Land Dallas Cemetery\n6000 S R L Thornton Freeway\nDallas\, Texas 75232\n\n\nRide Captain: \nTom Hardin\ntom.hardin27@hotmail.com\n(469) 387-1512\n\nAsst: Rick Crabb\, randjcrabb@juno.com\, (910) 330-9861\n\n\nSpecial Instructions: \nStarting Time: 1:45pm\nBriefing: 2pm\nService: 2:30pm\nThose riders not participating in Part One will stage at the cemetery\, set flags and await the arrival of the procession.\nRiders in the procession will quickly dismount and join the flag line. Riders will stand tall and silent until the completion of the service\, after which\, flags will be returned to the flag support vehicle. R\niders will then be debriefed and dismissed.\nPGR participation will include folding and presentation of the flag.\n\n\nFlags & Water:\nFlags will be provided\nLarge Bike Flags will NOT be needed.\nWater will be provided.\n\n\n\nSubmitted By: Dan Mathys \nPosition: Texas Ride Captain \n\nNote: You do not have to own/ride a motorcycle or be a veteran to join\, and membership is Free. The only requirement is RESPECT! To subscribe to receive mission notices\, log into the National Site and click on the Members tab at the top. Select the Subscribe to PGR Missions option.\n Print This Page
URL:https://www.patriotguard.org/mission/charles-hulen-arnold/
CATEGORIES:Honor Mission
END:VEVENT
END:VCALENDAR