BEGIN:VCALENDAR
VERSION:2.0
PRODID:-//Patriot Guard Riders - ECPv5.3.2.1//NONSGML v1.0//EN
CALSCALE:GREGORIAN
METHOD:PUBLISH
X-WR-CALNAME:Patriot Guard Riders
X-ORIGINAL-URL:https://www.patriotguard.org
X-WR-CALDESC:Events for Patriot Guard Riders
BEGIN:VTIMEZONE
TZID:America/New_York
BEGIN:DAYLIGHT
TZOFFSETFROM:-0500
TZOFFSETTO:-0400
TZNAME:EDT
DTSTART:20190310T070000
END:DAYLIGHT
BEGIN:STANDARD
TZOFFSETFROM:-0400
TZOFFSETTO:-0500
TZNAME:EST
DTSTART:20191103T060000
END:STANDARD
END:VTIMEZONE
BEGIN:VEVENT
DTSTART;VALUE=DATE:20190528
DTEND;VALUE=DATE:20190529
DTSTAMP:20210405T072622
CREATED:20190523T005125Z
LAST-MODIFIED:20190523T005125Z
UID:162134-1559001600-1559087999@www.patriotguard.org
SUMMARY:Charles Edwards
DESCRIPTION:Honor Mission\nCharles Edwards\, Veteran\nUSA\nMehlville\, Missouri – 05-28-19\n\n\n\n\nABOUT THE MISSION: \nWe have been honored to stand a flag line for U.S. Army veteran Charles Edwards just as he once stood for us. Your faithful dedication to serve to the United States is appreciated\, and will never be forgotten.\n\n\nPRIMARY STAGING DETAILS: 05-28-19 \nStaging Time: 1:00 pm \nJefferson Barracks National Cemetery\n2900 Sheridan Rd.\nMehlville\, Missouri 63125\n\n\nRide Captain: \nMike Albers\nhuck3517@yahoo.com\n\n\nSpecial Instructions: \nStage:  1:00 pm meeting shortly after\nService:  1:30 pm\nFlag support: TBD\n\nFlags & Water:\nFlags will be provided\nIf you have large bike flags\, please bring them.\nWater WILL NOT be provided\, please bring your own.\n\n\n\n\nSubmitted By: Michael Albers \nPosition: Missouri Ride Captain \n\nNote: You do not have to own/ride a motorcycle or be a veteran to join\, and membership is Free. The only requirement is RESPECT! To subscribe to receive mission notices\, log into the National Site and click on the Members tab at the top. Select the Subscribe to PGR Missions option.\n Print This Page
URL:https://www.patriotguard.org/mission/charles-edwards/
CATEGORIES:Honor Mission
END:VEVENT
END:VCALENDAR