BEGIN:VCALENDAR
VERSION:2.0
PRODID:-//Patriot Guard Riders - ECPv5.3.2.1//NONSGML v1.0//EN
CALSCALE:GREGORIAN
METHOD:PUBLISH
X-WR-CALNAME:Patriot Guard Riders
X-ORIGINAL-URL:https://www.patriotguard.org
X-WR-CALDESC:Events for Patriot Guard Riders
BEGIN:VTIMEZONE
TZID:America/New_York
BEGIN:DAYLIGHT
TZOFFSETFROM:-0500
TZOFFSETTO:-0400
TZNAME:EDT
DTSTART:20210314T070000
END:DAYLIGHT
BEGIN:STANDARD
TZOFFSETFROM:-0400
TZOFFSETTO:-0500
TZNAME:EST
DTSTART:20211107T060000
END:STANDARD
END:VTIMEZONE
BEGIN:VEVENT
DTSTART;VALUE=DATE:20210402
DTEND;VALUE=DATE:20210403
DTSTAMP:20210404T082955
CREATED:20210401T023949Z
LAST-MODIFIED:20210401T023949Z
UID:573451-1617321600-1617407999@www.patriotguard.org
SUMMARY:Charles Edward Griffin
DESCRIPTION:Honor Mission\nCharles Edward Griffin\, Veteran\nUSA –\nCleveland\, Mississippi – 04-02-21\n\n\n\nABOUT THE MISSION: \nCharles Edward Griffin\, (80)\, of Cleveland\, MS served our Country in the U.S. Army. He was drafted into the United States Army during the Vietnam Conflict where he was stationed in Germany.\n\n\nPRIMARY STAGING DETAILS: 04-02-21 \nStaging Time: 11:30 AM\n \nCleveland Funeral Home\n3463 West Highway 8\nCleveland\, Mississippi 38732\n\n\nRide Captain: \nJoe McKnight\n662-719-8693\n\n\nSpecial Instructions: \nThe PGR will stand a silent flag line during Visitation.\nEscort following Visitation to the Cemetery for a Graveside Service. (About 10 miles)\nLarge motorcycle mounted flags are encouraged.\n\n\nFlags & Water:\nFlags will be provided\nIf you have large bike flags\, please bring them.\nWater WILL NOT be provided\, please bring your own.\n\n\nSubmitted By: barry caldwell \nPosition: Assistant State Captain \n\nNote: You do not have to own/ride a motorcycle or be a veteran to join\, and membership is Free. The only requirement is RESPECT! To subscribe to receive mission notices\, log into the National Site and click on the Members tab at the top. Select the Subscribe to PGR Missions option.\n Print This Page
URL:https://www.patriotguard.org/mission/charles-edward-griffin/
CATEGORIES:Honor Mission
END:VEVENT
END:VCALENDAR