BEGIN:VCALENDAR
VERSION:2.0
PRODID:-//Patriot Guard Riders - ECPv5.3.2.1//NONSGML v1.0//EN
CALSCALE:GREGORIAN
METHOD:PUBLISH
X-WR-CALNAME:Patriot Guard Riders
X-ORIGINAL-URL:https://www.patriotguard.org
X-WR-CALDESC:Events for Patriot Guard Riders
BEGIN:VTIMEZONE
TZID:America/New_York
BEGIN:DAYLIGHT
TZOFFSETFROM:-0500
TZOFFSETTO:-0400
TZNAME:EDT
DTSTART:20160313T070000
END:DAYLIGHT
BEGIN:STANDARD
TZOFFSETFROM:-0400
TZOFFSETTO:-0500
TZNAME:EST
DTSTART:20161106T060000
END:STANDARD
END:VTIMEZONE
BEGIN:VEVENT
DTSTART;TZID=America/New_York:20160523T090000
DTEND;TZID=America/New_York:20160523T110000
DTSTAMP:20210404T164752
CREATED:20160523T130000Z
LAST-MODIFIED:20191201T145746Z
UID:411892-1463994000-1464001200@www.patriotguard.org
SUMMARY:Charles D. Parent\, USA
DESCRIPTION:Patriot Guard and Associates\, \nSadly we are called to stand a Flag Line to Honor Charles D. Parent\, SSG\, US Army\,  who served in Operation Iraqi Freedom with Battery C\, 2nd Battalion\, 6th Air Defense Artillery Brigade as a Phoenix Avenger Crew member from 2004 to 2012. He was awarded the Air Force Airman Medal\, Bronze Star Medal with Valor Device and Oak Leaf Cluster\, Army Commendation Medal with Valor Device and 6 Oak Leaf Clusters\, the Army Achievement Medal\, the Army Good Conduct Medal with 2 Knots\, the National Defense Service Medal\, the Iraq Campaign Medal with 4 Bronze Service Stars\, the Global War on Terrorism Service Medal\, the Army Non Commissioned Officer Professional Development Ribbon\, the Army Service Ribbon\, the Army Overseas Service Ribbon\, the Combat Action Badge with 1 Star\, the Air Assault Badge and 4 Overseas Service Bars. \nWe will provide a Flag Line at the Funeral Home during the service starting at 1000  (10:00 am)\, and  at the cemetery during the Interment. We will provide a Flag Vehicle Escort from the Funeral Home to the Cemetery. \nAssistant State Captain Jack Casey will  be RCIC and Flags will be on site. \nFIRST STAGE:                                     0900 hrs (9:00 am)\, Monday\, 23 May 2016\nEastside Memorial Funeral Home Funeral Home\n1987 East Main Street\nWaterbury\, CT 06705 \nINTERMENT:                                      Following Service at Funeral Home. Estimate 1000 hrs (10:00 am) stage at Cemetery.\nRiverside Cemetery\n496 Riverside Street\nWaterbury\, CT 06708 \n—\nMAC MCARTHUR\nConnecticut State Captain\nhaddamac@gmail.com\nmac06438@aol.com\nCell:  860-682-7625
URL:https://www.patriotguard.org/mission/charles-d-parent-usa/
CATEGORIES:Archive
END:VEVENT
END:VCALENDAR