BEGIN:VCALENDAR
VERSION:2.0
PRODID:-//Patriot Guard Riders - ECPv5.3.2.1//NONSGML v1.0//EN
CALSCALE:GREGORIAN
METHOD:PUBLISH
X-WR-CALNAME:Patriot Guard Riders
X-ORIGINAL-URL:https://www.patriotguard.org
X-WR-CALDESC:Events for Patriot Guard Riders
BEGIN:VTIMEZONE
TZID:America/New_York
BEGIN:DAYLIGHT
TZOFFSETFROM:-0500
TZOFFSETTO:-0400
TZNAME:EDT
DTSTART:20190310T070000
END:DAYLIGHT
BEGIN:STANDARD
TZOFFSETFROM:-0400
TZOFFSETTO:-0500
TZNAME:EST
DTSTART:20191103T060000
END:STANDARD
END:VTIMEZONE
BEGIN:VEVENT
DTSTART;VALUE=DATE:20190531
DTEND;VALUE=DATE:20190601
DTSTAMP:20210405T054729
CREATED:20190530T131503Z
LAST-MODIFIED:20190530T131546Z
UID:162986-1559260800-1559347199@www.patriotguard.org
SUMMARY:Charles Bridges\, Jr
DESCRIPTION:Honor Mission\nCharles Bridges\, Jr\, Veteran\nUSMC\nFort Worth\, Texas – 05-31-19\n\n\n\n\nABOUT THE MISSION: \nSgt. Bridges proudly served in the Marine Corps from 1959 to 1964.\n\n\nPRIMARY STAGING DETAILS: 05-31-19 \nStaging Time: 10:15 am\n \nLaurel Land Funeral Home and Memorial Park\n7100 Crowley Ave\nFort Worth\, Texas 76134\n\n\nRide Captain: \nRick Elliott\nrick.elliott@yahoo.com\n(214) 356-7535\n\n\nSpecial Instructions: \nStaging Time: 10:15 am\nBriefing Time: 10:30 am\nIn Position/KSU Time: 10:45 am\nStarting Time: 11:00 am\nAfter the Mission Brief\, the Riders will establish the Flag Line and await the arrival of family and guests. When directed\, the Riders will return the flags to the support vehicle and be dismissed.\n\n\nFlags & Water:\nFlags will be provided\nLarge Bike Flags will NOT be needed.\nWater will be provided.\n\nSubmitted By: Dan Mathys \nPosition: Texas Ride Captain \n\nNote: You do not have to own/ride a motorcycle or be a veteran to join\, and membership is Free. The only requirement is RESPECT! To subscribe to receive mission notices\, log into the National Site and click on the Members tab at the top. Select the Subscribe to PGR Missions option.\n Print This Page
URL:https://www.patriotguard.org/mission/charles-bridges-jr/
CATEGORIES:Honor Mission
END:VEVENT
END:VCALENDAR