BEGIN:VCALENDAR
VERSION:2.0
PRODID:-//Patriot Guard Riders - ECPv5.6.0//NONSGML v1.0//EN
CALSCALE:GREGORIAN
METHOD:PUBLISH
X-WR-CALNAME:Patriot Guard Riders
X-ORIGINAL-URL:https://www.patriotguard.org
X-WR-CALDESC:Events for Patriot Guard Riders
BEGIN:VTIMEZONE
TZID:America/New_York
BEGIN:DAYLIGHT
TZOFFSETFROM:-0500
TZOFFSETTO:-0400
TZNAME:EDT
DTSTART:20210314T070000
END:DAYLIGHT
BEGIN:STANDARD
TZOFFSETFROM:-0400
TZOFFSETTO:-0500
TZNAME:EST
DTSTART:20211107T060000
END:STANDARD
END:VTIMEZONE
BEGIN:VEVENT
DTSTART;VALUE=DATE:20210512
DTEND;VALUE=DATE:20210513
DTSTAMP:20210513T033746
CREATED:20210511T155823Z
LAST-MODIFIED:20210511T155823Z
UID:577002-1620777600-1620863999@www.patriotguard.org
SUMMARY:Charles Blackwell
DESCRIPTION:Honor Mission\nCharles Blackwell\, Veteran\nUSMC – Korea\, Vietnam\nKansas City\, Missouri – 05-12-21\n\n\n\nABOUT THE MISSION: \nThe Patriot Guard has the honor of standing a flag line for Hero Charles Blackwell’s funeral service and then escort him to his final resting place at Leavenworth National. Hero Blackwell served his country proudly in the United States Marines.\n\n\nPRIMARY STAGING DETAILS: 05-12-21 \nStaging Time:  8:30 am\n \nWinnwood Baptist Church\n4513 N Jackson AVE\nKansas City\, Missouri 64117\n\n\nRide Captain: \nJim Bailey\n816-797-9577\n\n\nSpecial Instructions: \nStaging 8:30 AM\nBriefing 8:45 AM\nFuneral 9:00 – 10:00 AM\nEscort following to Leavenworth National 150 Muncie Rd\, Leavenworth KS 66048 for a 11:00 AM appointment.***please make sure large bike flags are secure for highway speeds***\n\nFlags & Water:\nFlags will be provided\nIf you have large bike flags\, please bring them.\nWater will be provided.\n\n\n\n\nSubmitted By: Jim Bailey \nPosition: Missouri Ride Captain \n\nNote: You do not have to own/ride a motorcycle or be a veteran to join\, and membership is Free. The only requirement is RESPECT! To subscribe to receive mission notices\, log into the National Site and click on the Members tab at the top. Select the Subscribe to PGR Missions option.\n Print This Page
URL:https://www.patriotguard.org/mission/charles-blackwell/
CATEGORIES:Honor Mission
END:VEVENT
END:VCALENDAR