BEGIN:VCALENDAR
VERSION:2.0
PRODID:-//Patriot Guard Riders - ECPv5.3.2.1//NONSGML v1.0//EN
CALSCALE:GREGORIAN
METHOD:PUBLISH
X-WR-CALNAME:Patriot Guard Riders
X-ORIGINAL-URL:https://www.patriotguard.org
X-WR-CALDESC:Events for Patriot Guard Riders
BEGIN:VTIMEZONE
TZID:America/New_York
BEGIN:DAYLIGHT
TZOFFSETFROM:-0500
TZOFFSETTO:-0400
TZNAME:EDT
DTSTART:20190310T070000
END:DAYLIGHT
BEGIN:STANDARD
TZOFFSETFROM:-0400
TZOFFSETTO:-0500
TZNAME:EST
DTSTART:20191103T060000
END:STANDARD
END:VTIMEZONE
BEGIN:VEVENT
DTSTART;VALUE=DATE:20190626
DTEND;VALUE=DATE:20190627
DTSTAMP:20210405T024619
CREATED:20190622T211138Z
LAST-MODIFIED:20190624T112007Z
UID:165507-1561507200-1561593599@www.patriotguard.org
SUMMARY:Charles A. "Skip" Shepherd
DESCRIPTION:Honor Mission\nCharles A. “Skip” Shepherd\, Retired\, Veteran\, LEO\, Retired\nUSN\nPort St. Lucie\, Florida – 06-26-19\n\n\n\nABOUT THE MISSION: \nThe family of Charles A. Skip” Shepherd has graciously requested the Patriot Guard Riders’ presence as they show their final respects for their loved one. GM Shepherd faithfully served his country in the U.S. Navy as a Gunner’s Mate. He then became a Police Officer with the Waterbury\, CT PD and as a Correction Officer for the State of Ct where he retired as a Supervisor.\nNote: This is a two-part mission. Please hydrate!\nPlease bring your 3 X 5 American Flags and stand in honor and respect for this Sailor / Law Enforcement Officer and his family.\nFlag bikes highly encouraged. If you are uncomfortable riding in a group\, please meet at the funeral Home to stand in the flag line. Escort will possibly be LEO led.\n\n\nPRIMARY STAGING DETAILS: 06-26-19 \nStaging Time: 2:00 PM\n \nYMCA of the Treasure Coast\n1301 SW Bayshore Blvd.\nPort St. Lucie\, Florida 34983\nMap\n\n\nRide Captain: \nNick Markisello\ncell (845) 701-1895\n\n\nSpecial Instructions: \n2:10 pm- Brief\n2:30 pm- KSU for the escort to Aycock Funeral Home\n\n\nFlags & Water:\nFlags will not be provided.\nIf you have large bike flags\, please bring them.\nWater WILL NOT be provided\, please bring your own.\n\nSTAGING #2 DETAILS: 06-26-19 \nStaging Time: 2:10 PM  \nAycock Funeral Home\n1504 SE Floresta Dr.\nPort St. Lucie\, Florida 34983\nMap\n\n\nRide Captain: \nTBD\n\n\nSpecial Instructions: \n2:20 pm – Brief\n2:40 pm – Flag-line\n3:00 pm – Arrival of escort (est)\n4:00 pm – Service\n\n\nFlags & Water:\nFlags will not be provided.\nLarge Bike Flags will NOT be needed.\nWater WILL NOT be provided\, please bring your own.\n\n\nSubmitted By: Jeff Garten \nPosition: Florida Assistant State Captain \n\nNote: You do not have to own/ride a motorcycle or be a veteran to join\, and membership is Free. The only requirement is RESPECT! To subscribe to receive mission notices\, log into the National Site and click on the Members tab at the top. Select the Subscribe to PGR Missions option.\n Print This Page
URL:https://www.patriotguard.org/mission/charles-a-skip-shepherd/
CATEGORIES:Honor Mission
END:VEVENT
END:VCALENDAR