BEGIN:VCALENDAR
VERSION:2.0
PRODID:-//Patriot Guard Riders - ECPv5.3.2.1//NONSGML v1.0//EN
CALSCALE:GREGORIAN
METHOD:PUBLISH
X-WR-CALNAME:Patriot Guard Riders
X-ORIGINAL-URL:https://www.patriotguard.org
X-WR-CALDESC:Events for Patriot Guard Riders
BEGIN:VTIMEZONE
TZID:America/New_York
BEGIN:DAYLIGHT
TZOFFSETFROM:-0500
TZOFFSETTO:-0400
TZNAME:EDT
DTSTART:20190310T070000
END:DAYLIGHT
BEGIN:STANDARD
TZOFFSETFROM:-0400
TZOFFSETTO:-0500
TZNAME:EST
DTSTART:20191103T060000
END:STANDARD
END:VTIMEZONE
BEGIN:VEVENT
DTSTART;VALUE=DATE:20190913
DTEND;VALUE=DATE:20190914
DTSTAMP:20210401T142000
CREATED:20190911T130101Z
LAST-MODIFIED:20190911T130101Z
UID:173472-1568332800-1568419199@www.patriotguard.org
SUMMARY:Charlene Raymor
DESCRIPTION:Honor Mission\nCharlene Raymor \, Veteran\nUSAF –\nBiloxi\, Mississippi – 09-13-19\n\n\n\n\nABOUT THE MISSION: \n We are sad to report the death of US Air Force Veteran Charlene Raynor (70). The family of Mrs Raynor has requested the Patriot Guard Riders help honor and pay respect for her service to our country.\n\n\nPRIMARY STAGING DETAILS: 09-13-19 \nStaging Time: 10:15  am \nBig Play Entertainment\nparking lot\nHwy 90 & Veterans Ave\nBiloxi\, Mississippi 39532\n\n\nRide Captain: \nPsul Ramm\n830-444-1141\n\n\nSpecial Instructions: \nWe will ride together to Biloxi National Cemetery for 11 am service.\n\nFlags & Water:\nFlags will be provided\nLarge Bike Flags will NOT be needed.\nWater WILL NOT be provided\, please bring your own.\n\n\n\nSubmitted By: Sandie Schlett \nPosition: Mississippi Assistant State Captain \n\nNote: You do not have to own/ride a motorcycle or be a veteran to join\, and membership is Free. The only requirement is RESPECT! To subscribe to receive mission notices\, log into the National Site and click on the Members tab at the top. Select the Subscribe to PGR Missions option.\n Print This Page
URL:https://www.patriotguard.org/mission/charlene-raymor/
CATEGORIES:Honor Mission
END:VEVENT
END:VCALENDAR