BEGIN:VCALENDAR
VERSION:2.0
PRODID:-//Patriot Guard Riders - ECPv5.3.2.1//NONSGML v1.0//EN
CALSCALE:GREGORIAN
METHOD:PUBLISH
X-WR-CALNAME:Patriot Guard Riders
X-ORIGINAL-URL:https://www.patriotguard.org
X-WR-CALDESC:Events for Patriot Guard Riders
BEGIN:VTIMEZONE
TZID:America/New_York
BEGIN:DAYLIGHT
TZOFFSETFROM:-0500
TZOFFSETTO:-0400
TZNAME:EDT
DTSTART:20190310T070000
END:DAYLIGHT
BEGIN:STANDARD
TZOFFSETFROM:-0400
TZOFFSETTO:-0500
TZNAME:EST
DTSTART:20191103T060000
END:STANDARD
END:VTIMEZONE
BEGIN:VEVENT
DTSTART;VALUE=DATE:20190922
DTEND;VALUE=DATE:20190923
DTSTAMP:20210401T102612
CREATED:20190920T162907Z
LAST-MODIFIED:20190920T162907Z
UID:175594-1569110400-1569196799@www.patriotguard.org
SUMMARY:Chance Dorman
DESCRIPTION:Welcome Home\nChance Dorman\, Veteran\nUSMC – GW/ODS\nMobile\, Alabama – 09-22-19\n\n\n\nABOUT THE MISSION: \nLance Corporal Chance Dorman served in the USMC from 16 OCT 2015-9 Sep 2019 with two active deployments in Djibouti\, Africa and the Persian Gulf with the 1st Batallion 2nd Marine Alpha Company. He was recently honorably discharged and we would like to welcome him home. LCpl Dorman is the son of Jeff Adams\, one of our own PGR Riders. There will be a welcome home at the American Legion Post 88\, 2663 Halls Mills Rd.\, Mobile Alabama at 3:00 pm. We will meet directly at the post and welcome him as he arrives.\n\n\nPRIMARY STAGING DETAILS: 09-22-19 \nStaging Time: 2:30 pm  \nAmerican Legion Post 88\n2663 Halls Mills Rd\nMobile\, Alabama\n\n\nRide Captain: \nLloyd Pursley\nlloydpursley@gmail.com\n(251) 422-0696\n\n\n\n\nFlags & Water:\nFlags will be provided\nLarge Bike Flags will NOT be needed.\nWater will be provided.\n\nSubmitted By: Richard Ullo \nPosition: Alabama Ride Captain \n\nNote: You do not have to own/ride a motorcycle or be a veteran to join\, and membership is Free. The only requirement is RESPECT! To subscribe to receive mission notices\, log into the National Site and click on the Members tab at the top. Select the Subscribe to PGR Missions option.\n Print This Page
URL:https://www.patriotguard.org/mission/chance-dorman/
CATEGORIES:Welcome Home
END:VEVENT
END:VCALENDAR