BEGIN:VCALENDAR
VERSION:2.0
PRODID:-//Patriot Guard Riders - ECPv5.3.2.1//NONSGML v1.0//EN
CALSCALE:GREGORIAN
METHOD:PUBLISH
X-WR-CALNAME:Patriot Guard Riders
X-ORIGINAL-URL:https://www.patriotguard.org
X-WR-CALDESC:Events for Patriot Guard Riders
BEGIN:VTIMEZONE
TZID:America/New_York
BEGIN:DAYLIGHT
TZOFFSETFROM:-0500
TZOFFSETTO:-0400
TZNAME:EDT
DTSTART:20190310T070000
END:DAYLIGHT
BEGIN:STANDARD
TZOFFSETFROM:-0400
TZOFFSETTO:-0500
TZNAME:EST
DTSTART:20191103T060000
END:STANDARD
END:VTIMEZONE
BEGIN:VEVENT
DTSTART;VALUE=DATE:20190629
DTEND;VALUE=DATE:20190630
DTSTAMP:20210405T013747
CREATED:20190626T222913Z
LAST-MODIFIED:20190626T222913Z
UID:165658-1561766400-1561852799@www.patriotguard.org
SUMMARY:Celebration of Heroes to benefit the Norman Veterans' Center
DESCRIPTION:HOTH Mission\nCelebration of Heroes to benefit the Norman Veterans’ Center\nActive Duty\, POW/MIA\, KIA\, Veteran\nUSA USMC USN USAF USCG – WWII\, Korea\, Vietnam\, GW/ODS\, WoT\, Lebanon/Grenada\, Panama\nNorman\, Oklahoma – 06-29-19\n\n\n\nABOUT THE MISSION: \nMetro Brokers of Oklahoma has asked the PGR to place U.S. & Military Service Flags around the venue and welcome incoming Veterans and Active Military to a public fundraiser benefiting the Norman Veterans’ Center. This event will start at 5p.m. and will feature live music\, a live and a silent auction\, and more events. Veterans from the Norman Veterans’ Center and from the community will be in attendance and recognized for their service.\n\n\nPRIMARY STAGING DETAILS: 06-29-19 \nStaging Time: 4:15 PM\n \nHollywood Corners\n4712 N. Porter Ave.\nNorman\, Oklahoma\n\n\nRide Captain: \nDennis Denson\n(405) 830-2392\nddensonpgr@gmail.com\nGOD BLESS. RIDE SAFE.\n\n\nSpecial Instructions: \nBriefing: 4:30p.m.\nAnnounced start time of 5p.m.\nThe event will officially start at 5:30p.m. with the entrance of a Military Color Guard.\nOnce the Color Guard has opened the event\, PGR will collect the posted flags and stakes and return them the to flag vehicle\, and the Mission will be concluded.\nMembers wishing to participate in the festivities are welcome to do so.\nWeather: High of 88 with a 20% chance of rain.\n\n\nFlags & Water:\nFlags will be provided\nIf you have large bike flags\, please bring them.\nWater WILL NOT be provided\, please bring your own.\n\n\n\nSubmitted By: Ray Gehrig \nPosition: Oklahoma Ride Captain \n\nNote: You do not have to own/ride a motorcycle or be a veteran to join\, and membership is Free. The only requirement is RESPECT! To subscribe to receive mission notices\, log into the National Site and click on the Members tab at the top. Select the Subscribe to PGR Missions option.\n Print This Page
URL:https://www.patriotguard.org/mission/celebration-of-heroes-to-benefit-the-norman-veterans-center/
CATEGORIES:HOTH Mission
END:VEVENT
END:VCALENDAR