BEGIN:VCALENDAR
VERSION:2.0
PRODID:-//Patriot Guard Riders - ECPv5.6.0//NONSGML v1.0//EN
CALSCALE:GREGORIAN
METHOD:PUBLISH
X-WR-CALNAME:Patriot Guard Riders
X-ORIGINAL-URL:https://www.patriotguard.org
X-WR-CALDESC:Events for Patriot Guard Riders
BEGIN:VTIMEZONE
TZID:America/New_York
BEGIN:DAYLIGHT
TZOFFSETFROM:-0500
TZOFFSETTO:-0400
TZNAME:EDT
DTSTART:20160313T070000
END:DAYLIGHT
BEGIN:STANDARD
TZOFFSETFROM:-0400
TZOFFSETTO:-0500
TZNAME:EST
DTSTART:20161106T060000
END:STANDARD
END:VTIMEZONE
BEGIN:VEVENT
DTSTART;TZID=America/New_York:20160822T090000
DTEND;TZID=America/New_York:20160822T110000
DTSTAMP:20210511T194853
CREATED:20160822T130000Z
LAST-MODIFIED:20191201T143506Z
UID:409818-1471856400-1471863600@www.patriotguard.org
SUMMARY:Cecil Eugene Stanbery\, USAAF
DESCRIPTION:TSgt Cecil Eugene Stanbery\nUSAAC\, WWII Veteran\nMiami\, OK\n22 Aug 16\n\n\n\nThe family of US Army Air Corps World War II Veteran TSgt Cecil Eugene Stanbery has asked the Patriot Guard Riders to stand a flag line at his funeral service scheduled for 1000 Hours Monday\, 22 August 2016\, Paul Thomas Funeral Home Chapel 1432 B St NW\, Miami\, OK. \nUpon conclusion of the funeral service\, the PGR will escort this Hero and his family to G.A.R. Cemetery\, Miami\, OK for interment. The American Legion Honor Detail will render Military Honors. \nDate:  Monday\, 22 August 2016 at 1000 Hours \nStaging:  0845 Hours\nPaul Thomas Funeral Home\n1432 B St NW\nMiami\, OK \nMandatory Briefing:  0900 Hours\nYou MUST attend the briefing to ride in the escort \nFlag Line:  0930 Hours \nWeather:  Temperature range upper 70s to low 80s and sunny. \nRCIC:\nRC Randy ‘Hollywood’ Dixon\nrdixon54@yahoo.com\n918.533.3409
URL:https://www.patriotguard.org/mission/cecil-eugene-stanbery-usaaf/
CATEGORIES:Archive
END:VEVENT
END:VCALENDAR